BEGIN:VCALENDAR
VERSION:2.0
PRODID:http://www.infomax-online.de/imxeventmanager/
METHOD:PUBLISH
BEGIN:VTIMEZONE
TZID:Europe/Berlin
TZURL:http://tzurl.org/zoneinfo-outlook/Europe/Berlin
X-LIC-LOCATION:Europe/Berlin
END:VTIMEZONE
BEGIN:VEVENT
UID:69e6464d5d8b8
LOCATION:Am Rathaus 3, 25421 Pinneberg
SUMMARY;ENCODING=QUOTED-PRINTABLE:Pubertät - Jugendliche auf der Achterbahn begleiten
DESCRIPTION;ENCODING=QUOTED-PRINTABLE:Im Alter von 10-16 Jahren durchleben Kinder/Jugendliche auf allen=0D=0AEbenen Veränderungen in großem Ausmaß: Die Pubertät schleicht sich=0D=0Aan oder ist bereits in vollem Gang – die Hormone bringen alles=0D=0Adurcheinander, der Körper verändert sich stetig und es gibt=0D=0Aunzählige Fragen und Unsicherheiten.=0D=0A=0D=0AWie können wir als Eltern mit unseren Kindern im Gespräch bleiben,=0D=0Agute Ansprechpersonen für sie sein und sie durch alle Höhen und=0D=0ATiefen begleiten? Ich gebe an diesem Abend einige Impulse zu dieser=0D=0AFrage, indem wir uns zunächst einen Überblick über die=0D=0Akörperliche, hormonelle und sexuelle Entwicklung von Jugendlichen=0D=0Averschaffen und uns den Themen Körperbilder, Medien und Vielfalt=0D=0Aannähern, die wichtige Bestandteile im Leben der Jugendlichen sind.=0D=0A=0D=0AEs soll außerdem die Möglichkeit geben, miteinander in den Austausch=0D=0Azu kommen und eigene Fragen zu stellen. Abgerundet wird der Abend mit=0D=0ALiteraturtipps zu den Themen Pubertät, Aufklärung und Medien.=0D=0A=0D=0AKursort: Raum 336=0D=0A
URL;VALUE=URI:https://hamburgwhl.infomaxnet.de/standard_widget_de/e-pubertaet-jugendliche-auf-der-achterbahn-begleiten?eventDateId=30042920&widgetToken=22vcqFKw4GE.&
CLASS:PUBLIC
DTSTART:20260422T190000
DTSTAMP:20260420T172917
END:VEVENT
END:VCALENDAR