BEGIN:VCALENDAR
VERSION:2.0
PRODID:http://www.infomax-online.de/imxeventmanager/
METHOD:PUBLISH
BEGIN:VTIMEZONE
TZID:Europe/Berlin
TZURL:http://tzurl.org/zoneinfo-outlook/Europe/Berlin
X-LIC-LOCATION:Europe/Berlin
END:VTIMEZONE
BEGIN:VEVENT
UID:69e5edb28f98f
LOCATION:Am Rathaus 3, 25421 Pinneberg
SUMMARY;ENCODING=QUOTED-PRINTABLE:Forderungen nach Freiheit im Iran: Vom 19. Jahrhundert bis in die=0D=0AGegenwart
DESCRIPTION;ENCODING=QUOTED-PRINTABLE:In Kooperation mit der der Schleswig-Holsteinischen=0D=0AUniversitäts-Gesellschaft (SHUG). =0D=0A=0D=0AIn dem Vortrag wird ein Bogen vom 19. Jahrhundert bis in die Gegenwart=0D=0Ageschlagen, um zu zeigen, wie sich die Debatten um den=0D=0AFreiheitsbegriff in Iran entwickelten. In der persischsprachigen=0D=0APresse des 19. Jahrhunderts wurde der Freiheitsbegriff intensiv=0D=0Adiskutiert. Dabei kam es zu Neudeutungen und zu Forderungen nach=0D=0AFreiheitsrechten, die schließlich in die Verfassungsrevolution von=0D=0A1906–11 mündeten. Nach der Revolution von 1979 bot sich in Iran=0D=0Aerneut die Gelegenheit, über diese Rechte zu diskutieren, die=0D=0Ainzwischen in der Allgemeinen Erklärung der Menschenrechte und den=0D=0Afolgenden UN-Konventionen niedergelegt worden waren. Individuelle=0D=0AFreiheitsrechte werden mit dem Verweis auf die Herrschaft Gottes nur=0D=0Aeingeschränkt zugestanden. Religionsfreiheit wird durch das=0D=0Aislamische Recht begrenzt, nachdem nur bestimmte Religionen anerkannt=0D=0Awerden und die Konversion von Muslim*innen grundsätzlich=0D=0Aausgeschlossen ist. Mit ihren Protesten unter dem Motto „Frau -=0D=0ALeben - Freiheit“ machten Frauen – und Männer – seit September=0D=0A2022 deutlich, dass sie nicht mehr gewillt sind, die Einschränkungen=0D=0Aihrer persönlichen Freiheit hinzunehmen. Ob der soziale Widerstand,=0D=0Ader sich wegen seiner brutalen Unterdrückung weitgehend aus der=0D=0AÖffentlichkeit zurückgezogen hat, das Regime der Islamischen=0D=0ARepublik tatsächlich schwächen kann, ist zur Zeit schwer zu sagen.=0D=0A=0D=0ADer Vortrag findet in Raum 347 statt.=0D=0A
URL;VALUE=URI:https://hamburgwhl.infomaxnet.de/standard_widget_de/e-forderungen-nach-freiheit-im-iran-vom-19-jahrhundert-bis-in-die-gegenwart?eventDateId=30042919&widgetToken=22vcqFKw4GE.&
CLASS:PUBLIC
DTSTART:20260421T193000
DTSTAMP:20260420T111114
END:VEVENT
END:VCALENDAR