BEGIN:VCALENDAR
VERSION:2.0
PRODID:http://www.infomax-online.de/imxeventmanager/
METHOD:PUBLISH
BEGIN:VTIMEZONE
TZID:Europe/Berlin
TZURL:http://tzurl.org/zoneinfo-outlook/Europe/Berlin
X-LIC-LOCATION:Europe/Berlin
END:VTIMEZONE
BEGIN:VEVENT
UID:69ea407b3c90c
LOCATION:Schmilinskystraße 78, 20099 Hamburg
SUMMARY;ENCODING=QUOTED-PRINTABLE:Damit der Funke überspringt… Wissen lebendig vermitteln
DESCRIPTION;ENCODING=QUOTED-PRINTABLE:Präsenz-Seminar für Multiplikator*innen, die im Bereich Globales=0D=0ALernen, Bildung für nachhaltige Entwicklung und transformative=0D=0ABildung tätig sind.=0D=0A=0D=0AIn diesem Seminar erhältst du nicht nur spannende Einblicke in die=0D=0ALernpsychologie, sondern auch umfangreiches methodisches=0D=0AHandwerkszeug, mit dem du deine Bildungsveranstaltungen lebendig und=0D=0Aabwechslungsreich gestalten kannst.=0D=0A=0D=0AAuf der Basis von Erkenntnissen aus der Hirnforschung gehen wir=0D=0Agemeinsam der Frage nach, wie Lernen nicht nur effektiv, sondern auch=0D=0Amit Spaß und Leichtigkeit gelingen kann.=0D=0A=0D=0AOb Inhalte verstanden, langfristig erinnert und im Alltag umgesetzt=0D=0Awerden, hängt maßgeblich davon ab, wie der Lernprozess gestaltet=0D=0Awird. Damit der Funke überspringt, reicht es meist nicht aus, das=0D=0Aeigene Fachwissen sachlich vorzutragen. Erst der regelmäßige Wechsel=0D=0Ader Lernformen, die Einbeziehung aller Sinne und die aktive=0D=0ABeteiligung der Teilnehmenden führen zu wirklichem Verstehen und=0D=0ABehalten.=0D=0A=0D=0ASo verschieden wir Menschen sind, so unterschiedlich ist auch unsere=0D=0AArt zu lernen. Zentraler Bestandteil des Seminars sind deshalb=0D=0Ainteraktive Methoden für die verschiedenen Phasen einer=0D=0ABildungsveranstaltung, die es ermöglichen, alle Lerntypen und=0D=0ALernstile gleichermaßen anzusprechen.=0D=0A=0D=0ADu erhältst ein breites Repertoire an Methoden und Anregungen, die du=0D=0Adirekt auf deine eigenen Themen und Zielgruppen anwenden kannst - und=0D=0Animmst auch ein paar Ideen mit, wie du generative KI als zusätzlichen=0D=0ABaustein kreativ im Seminarraum nutzen kannst.=0D=0A=0D=0AANMELDUNG ODER VORVERKAUFSSTELLEN=0D=0A=0D=0ATEILNAHMEBEITRAG=0D=0A=0D=0ADer Teilnahmebeitrag für dieses Seminar (inkl. Unterkunft und=0D=0AVerpflegung im Tagungshaus) beträgt:=0D=0A=0D=0A330,- € Standardpreis=0D=0A=0D=0A240,- € reduzierter Standardpreis, wenn der reguläre=0D=0AStandard-preis für dich zu hoch ist=0D=0A=0D=0A90,- € ermäßigter Preis, wenn deine Einkommens-/Vermögens-/=0D=0ALebenssituation es dir nicht ermöglicht, einen der beiden=0D=0AStandardpreise zu zahlen=0D=0A=0D=0A45,- € für Bezieher*innen von Bürgergeld beziehungsweise=0D=0ASozialhilfe=0D=0A=0D=0ALEITUNG=0D=0A=0D=0ANicole Borgeest (Erwachsenenbildnerin, Studienleiterin der=0D=0ABildungsstelle Nord von Brot für die Welt)=0D=0A=0D=0AVERANSTALTER=0D=0A=0D=0A	* Evangelisches Werk für Diakonie und Entwicklung e.V. Brot für die=0D=0AWelt Bildungsstelle Nord=0D=0A[https://www.nordkirche.de/institution/?nkci=13799]=0D=0A=0D=0A
URL;VALUE=URI:https://hamburgwhl.infomaxnet.de/standard_widget_de/e-damit-der-funke-ueberspringt-wissen-lebendig-vermitteln?eventDateId=30042708&widgetToken=22vcqFKw4GE.&
CLASS:PUBLIC
DTSTART:20260423T180000
DTSTAMP:20260423T175331
END:VEVENT
END:VCALENDAR