BEGIN:VCALENDAR
VERSION:2.0
PRODID:http://www.infomax-online.de/imxeventmanager/
METHOD:PUBLISH
BEGIN:VTIMEZONE
TZID:Europe/Berlin
TZURL:http://tzurl.org/zoneinfo-outlook/Europe/Berlin
X-LIC-LOCATION:Europe/Berlin
END:VTIMEZONE
BEGIN:VEVENT
UID:69eb7191348b2
LOCATION:Jarrestraße 20, 22303 Hamburg
SUMMARY;ENCODING=QUOTED-PRINTABLE:ERLEBTE TANZGESCHICHTE
DESCRIPTION;ENCODING=QUOTED-PRINTABLE:Dieser Workshop gibt Einblicke in Stile des Bühnentanzes im 20. und=0D=0A21. Jahrhundert: Von Ballett über Ausdruckstanz, Modern Dance,=0D=0APost-Modern Dance und Tanztheater bis hin zum zeitgenössischen Tanz.=0D=0ATypisches Bewegungsvokabular der Stile wird körperlich erfahrbar und=0D=0Awir probieren uns in den unterschiedlichen Prinzipien und Rhythmen=0D=0Aaus. Ob weiche, fallende Bewegungen oder kraftvolle Moves – jeder=0D=0ATanz hat seinen individuellen Ausdruck und möchte andere Geschichten=0D=0Aerzählen. Es entsteht ein Überblick sowohl über die einzelnen=0D=0AGrundschritte als auch Improvisationsansätze und das theoretische=0D=0AWissen dahinter. Durch das Eintauchen in diese Vielfalt erweitert sich=0D=0Adas individuelle Bewegungsspektrum und ästhetische=0D=0AAusdrucksvermögen, Praxis und Theorie verbinden sich zu einer Reise=0D=0Adurch die Tanzgeschichte.=0D=0A=0D=0AOffen für alle Interessierten | Keine Vorkenntnisse erforderlich =0D=0A=0D=0ADIE ANMELDUNG ERFOLGT NUR ÜBER DIE VHS HAMBURG=0D=0A=0D=0AWWW.VHS-HAMBURG.DE=0D=0A[https://www.vhs-hamburg.de/kurs/erlebte-tanzgeschichte/397550]=0D=0A=0D=0ADer Kurs ist ausgebucht, die VHS führt eine Warteliste.=0D=0A
URL;VALUE=URI:https://hamburgwhl.infomaxnet.de/standard_widget_de/e-erlebte-tanzgeschichte-1?eventDateId=30042662&widgetToken=22vcqFKw4GE.&
CLASS:PUBLIC
DTSTART:20260425T100000
DTSTAMP:20260424T153513
END:VEVENT
END:VCALENDAR