BEGIN:VCALENDAR
VERSION:2.0
PRODID:http://www.infomax-online.de/imxeventmanager/
METHOD:PUBLISH
BEGIN:VTIMEZONE
TZID:Europe/Berlin
TZURL:http://tzurl.org/zoneinfo-outlook/Europe/Berlin
X-LIC-LOCATION:Europe/Berlin
END:VTIMEZONE
BEGIN:VEVENT
UID:69e9e8ff7e614
LOCATION:Schwimmbadallee 8, 21789 Wingst
SUMMARY;ENCODING=QUOTED-PRINTABLE:Aqua Fit
DESCRIPTION;ENCODING=QUOTED-PRINTABLE:Aqua Fit ist ein Ganzkörpertraining mit Kraft-, Ausdauer- und=0D=0AKoordinationsübungen für jedes Alter und Fitnesslevel – mit und=0D=0Aohne Aquafitnessgeräte.=0D=0A =0D=0AAqua Fit ist gelenkschonend, trainiert dein Herz-Kreislauf-System und=0D=0Aist ein richtiger „Fettkiller“. Außerdem förderst du dabei die=0D=0ABeweglichkeit deines ganzen Körpers.=0D=0AAqua Fit ist ein offener Kurs. Das heißt, du kannst immer dann=0D=0Amitmachen, wenn du gerade Lust und Zeit hast – ohne Anmeldung und=0D=0Aganz spontan. =0D=0ADer Kurs findet jeden Donnerstag um 10 Uhr statt.=0D=0AHinweise:=0D=0Amaximal 20 Teilnehmer:innen=0D=0A=0D=0AEintritt + 3,00 €=0D=0A
URL;VALUE=URI:https://hamburgwhl.infomaxnet.de/standard_widget_de/e-aqua-fit-6?eventDateId=30042336&widgetToken=22vcqFKw4GE.&
CLASS:PUBLIC
DTSTART:20260423T100000
DTSTAMP:20260423T114015
END:VEVENT
END:VCALENDAR