BEGIN:VCALENDAR
VERSION:2.0
PRODID:http://www.infomax-online.de/imxeventmanager/
METHOD:PUBLISH
BEGIN:VTIMEZONE
TZID:Europe/Berlin
TZURL:http://tzurl.org/zoneinfo-outlook/Europe/Berlin
X-LIC-LOCATION:Europe/Berlin
END:VTIMEZONE
BEGIN:VEVENT
UID:69e6b5cf6ca44
LOCATION:Am Markt , 21781 Cadenberge
SUMMARY;ENCODING=QUOTED-PRINTABLE:Frühjahrsmarkt Cadenberge
DESCRIPTION;ENCODING=QUOTED-PRINTABLE:Es ist wieder soweit, der Frühjahrsmarkt auf dem Marktplatz=0D=0ACadenberge steht vor der Tür. Egal ob Groß oder Klein, hier findet=0D=0Ajeder etwas Passendes. Karussell, Autoscooter, Zucker- und=0D=0ABratwurstbude all das und vieles mehr wartet am Wochenende auf=0D=0Azahlreiche Besucher.=0D=0A=0D=0AAm Sonntag findet ab 10 Uhr ein Flohmarkt statt.=0D=0AInformationen zum Flohmarkt gibt es bei Frau Heinsohn unter Tel. 0173=0D=0A2198255.=0D=0A
URL;VALUE=URI:https://hamburgwhl.infomaxnet.de/standard_widget_de/e-fruehjahrsmarkt-cadenberge?eventDateId=30039495&widgetToken=22vcqFKw4GE.&
CLASS:PUBLIC
DTSTART:20260420T140000
DTSTAMP:20260421T012503
END:VEVENT
END:VCALENDAR