BEGIN:VCALENDAR
VERSION:2.0
PRODID:http://www.infomax-online.de/imxeventmanager/
METHOD:PUBLISH
BEGIN:VTIMEZONE
TZID:Europe/Berlin
TZURL:http://tzurl.org/zoneinfo-outlook/Europe/Berlin
X-LIC-LOCATION:Europe/Berlin
END:VTIMEZONE
BEGIN:VEVENT
UID:69e6e56ec6dde
LOCATION:Am Markt , 21781 Cadenberge
SUMMARY;ENCODING=QUOTED-PRINTABLE:Wochenmarkt Cadenberge
DESCRIPTION;ENCODING=QUOTED-PRINTABLE:Auf dem Cadenberger Wochenmarkt gibt es jeden Donnerstag von 8.00 Uhr=0D=0Abis 12.00 Uhr frische regionale Ware wie Fleisch, Käse, Gemüse,=0D=0ABlumen und vieles mehr.=0D=0AKostenlose Parkplätze sind vorhanden.=0D=0A=0D=0A
URL;VALUE=URI:https://hamburgwhl.infomaxnet.de/standard_widget_de/e-wochenmarkt-cadenberge?eventDateId=30038860&widgetToken=22vcqFKw4GE.&
CLASS:PUBLIC
DTSTART:20260423T080000
DTSTAMP:20260421T044814
END:VEVENT
END:VCALENDAR