BEGIN:VCALENDAR
VERSION:2.0
PRODID:http://www.infomax-online.de/imxeventmanager/
METHOD:PUBLISH
BEGIN:VTIMEZONE
TZID:Europe/Berlin
TZURL:http://tzurl.org/zoneinfo-outlook/Europe/Berlin
X-LIC-LOCATION:Europe/Berlin
END:VTIMEZONE
BEGIN:VEVENT
UID:69ea003eb7ea6
LOCATION:Papenstraße 70, 22089 Hamburg
SUMMARY;ENCODING=QUOTED-PRINTABLE:Chorprobe Gospelchor
DESCRIPTION;ENCODING=QUOTED-PRINTABLE:Wer Freude am Singen hat und den Frauenchor unterstützen möchte, ist=0D=0Azu den Proben donnerstags 19:00 Uhr (außer in den Schulferien oder an=0D=0AFeiertagen) im Gemeindehaus Papenstraße 70 herzlich willkommen.=0D=0A=0D=0ANotenkenntnisse sind nicht erforderlich.=0D=0A=0D=0AKontakt: info@friedenskirche-eilbek.de =0D=0A=0D=0ALEITUNG=0D=0A=0D=0AJohn Lehman=0D=0A=0D=0AVERANSTALTER=0D=0A=0D=0A	* Ev.-Luth. Kirchengemeinde Friedenskirche Eilbek=0D=0A[https://www.nordkirche.de/institution/?nkci=776]=0D=0A=0D=0A
URL;VALUE=URI:https://hamburgwhl.infomaxnet.de/standard_widget_de/e-chorprobe-gospelchor-106?eventDateId=30028817&widgetToken=22vcqFKw4GE.&
CLASS:PUBLIC
DTSTART:20260423T190000
DTSTAMP:20260423T131926
END:VEVENT
END:VCALENDAR