BEGIN:VCALENDAR
VERSION:2.0
PRODID:http://www.infomax-online.de/imxeventmanager/
METHOD:PUBLISH
BEGIN:VTIMEZONE
TZID:Europe/Berlin
TZURL:http://tzurl.org/zoneinfo-outlook/Europe/Berlin
X-LIC-LOCATION:Europe/Berlin
END:VTIMEZONE
BEGIN:VEVENT
UID:69e9e92671be0
LOCATION:Papenstraße 70, 22089 Hamburg
SUMMARY;ENCODING=QUOTED-PRINTABLE:Musical Kids
DESCRIPTION;ENCODING=QUOTED-PRINTABLE:Termine Freitags 27. März, 10. April, 24. April, 8. Mai, 22. Mai 2026=0D=0A=0D=0Aab 5 Jahre=0D=0A=0D=0ATauche ein in die magische Welt des Musicals! In diesem Workshop=0D=0Abekommst du spannende Einblicke in Tanz, Gesang und Schauspiel – die=0D=0Adrei wichtigsten Elemente eines Musicals.=0D=0A=0D=0AGemeinsam entdecken wir, wie du deine Stimme und deinen Körper=0D=0Agezielt einsetzen kannst, um in verschiedene Rollen zu schlüpfen und=0D=0Avoller Spaß auf der Bühne zu stehen. Mit spielerischen Übungen und=0D=0Akreativen Improvisationen kannst du dich immer wieder neu ausprobieren=0D=0Aund dein Selbstvertrauen stärken.=0D=0A=0D=0AEgal, ob du schon erste Bühnenerfahrungen hast oder einfach Lust auf=0D=0AMusik und Bewegung – hier steht der Spaß im Vordergrund!=0D=0A=0D=0AIch freue mich auf euch!=0D=0A=0D=0AJasmin Thießen=0D=0A=0D=0AAnmeldung bitte im Kirchenbüro Telefon 250 54 78 oder per Mail=0D=0Ainfo@friedenskirche-osterkirche-eilbek.de=0D=0A=0D=0ADer Workshop ist kostenfrei!=0D=0A=0D=0AANMELDUNG ODER VORVERKAUFSSTELLEN=0D=0A=0D=0AAnmeldung im Kirchenbüro Tel 250 54 78=0D=0A=0D=0ALEITUNG=0D=0A=0D=0AJasmin Thießen=0D=0A=0D=0AVERANSTALTER=0D=0A=0D=0A	* Ev.-Luth. Kirchengemeinde Friedenskirche Eilbek=0D=0A[https://www.nordkirche.de/institution/?nkci=776]=0D=0A=0D=0A
URL;VALUE=URI:https://hamburgwhl.infomaxnet.de/standard_widget_de/e-musical-kids-21?eventDateId=30028776&widgetToken=22vcqFKw4GE.&
CLASS:PUBLIC
DTSTART:20260424T153000
DTSTAMP:20260423T114054
END:VEVENT
END:VCALENDAR