BEGIN:VCALENDAR
VERSION:2.0
PRODID:http://www.infomax-online.de/imxeventmanager/
METHOD:PUBLISH
BEGIN:VTIMEZONE
TZID:Europe/Berlin
TZURL:http://tzurl.org/zoneinfo-outlook/Europe/Berlin
X-LIC-LOCATION:Europe/Berlin
END:VTIMEZONE
BEGIN:VEVENT
UID:69e9edfee2712
LOCATION:Papenstraße 70, 22089 Hamburg
SUMMARY;ENCODING=QUOTED-PRINTABLE:Flohmarktcafé
DESCRIPTION;ENCODING=QUOTED-PRINTABLE:Seit über 20 Jahren besteht das beliebte Flohmarktcafé im=0D=0AErdgeschoss des Gemeindehauses in der Papenstraße. In den Jahren hat=0D=0Asich das Flohmarktcafé zu einem Ort der Begegnung entwickelt, an dem=0D=0Aman sich in netter Atmosphäre mit Freunden und Bekannten verabreden=0D=0Aund mit Menschen aus dem Stadtteil ins Gespräch kommen kann. Die=0D=0Aehrenamtlich tätigen Damen und Herren des Flohmarktcafés freuen sich=0D=0Aauf Schnäppchenjäger, die im vielfältigen Angebot stöbern,=0D=0Agenauso, wie auf Besucher:innen, die nur auf einen Kaffee und ein=0D=0AStück Kuchen vorbeischauen.=0D=0A=0D=0AZu den Öffnungszeiten nimmt das engagierte Team gerne gebrauchte,=0D=0Asaubere und heile Damen- und Herrenbekleidung, Schuhe, Bett- und=0D=0ATischwäsche, Bücher, CDs, DVDs, Geschirr, Gläser, Dekoartikel und=0D=0Adergleichen an. Elektrogeräte können leider nicht angenommen werden.=0D=0ADie Erlöse kommen der Gemeindearbeit zugute.=0D=0A=0D=0ADas Flohmarktcafé im Gemeindehaus Papenstraße 70 ist im Januar und=0D=0AFebruar 2026 geöffnet: mittwochs 10:00 Uhr bis 12:00 Uhr und 15:00=0D=0AUhr bis 18:00 Uhr. Donnerstags 10:00 Uhr bis 12:00 Uhr. Im Dezember=0D=0A2025 ist das Flohmarktcafé weiterhin auch donnerstags in der Zeit von=0D=0A15:00 - 18:00 Uhr geöffnet. Zu diesen Zeiten haben die Besucher:innen=0D=0Adie Gelegenheit, günstige Flohmarktartikel, sowie=0D=0ASecond-Hand-Kleidung zu erwerben und/oder auf einen Kaffee und einen=0D=0AKlönschnack vorbeizuschauen.=0D=0A=0D=0ADas freundliche Team freut sich über Verstärkung. Wer Zeit und Lust=0D=0Ahat, mitzumachen, meldet sich bitte bei Renate Endrulat Mail=0D=0Arenate.endrulat@friedenskirche-eilbek.de=0D=0A=0D=0ALEITUNG=0D=0A=0D=0AWährend der Vakanzzeit Renate Endrulat=0D=0A=0D=0AVERANSTALTER=0D=0A=0D=0A	* Ev.-Luth. Kirchengemeinde Friedenskirche Eilbek=0D=0A[https://www.nordkirche.de/institution/?nkci=776]=0D=0A=0D=0A
URL;VALUE=URI:https://hamburgwhl.infomaxnet.de/standard_widget_de/e-flohmarktcafe-395?eventDateId=30028761&widgetToken=22vcqFKw4GE.&
CLASS:PUBLIC
DTSTART:20260429T150000
DTSTAMP:20260423T120134
END:VEVENT
END:VCALENDAR