BEGIN:VCALENDAR
VERSION:2.0
PRODID:http://www.infomax-online.de/imxeventmanager/
METHOD:PUBLISH
BEGIN:VTIMEZONE
TZID:Europe/Berlin
TZURL:http://tzurl.org/zoneinfo-outlook/Europe/Berlin
X-LIC-LOCATION:Europe/Berlin
END:VTIMEZONE
BEGIN:VEVENT
UID:69eaf9c989717
LOCATION:Kokerstraße 1-3, 23569 Lübeck
SUMMARY;ENCODING=QUOTED-PRINTABLE:Die Lübecker Ortsverwaltung von 1926 des deutschen=0D=0AMetallarbeiter-Verbandes
DESCRIPTION;ENCODING=QUOTED-PRINTABLE:Vortrag und Diskussion - Ein Projekt der AG Geschichte der IG Metall=0D=0ALübeck-Wismar=0D=0A=0D=0Ader Vortrag ist kostenlos=0D=0A=0D=0Awir bitten um Anmeldung unter 0451 702600 oder luebeck@igmetall.de=0D=0A
URL;VALUE=URI:https://hamburgwhl.infomaxnet.de/standard_widget_de/e-die-luebecker-ortsverwaltung-von-1926-des-deutschen-metallarbeiter-verbandes?eventDateId=30026545&widgetToken=22vcqFKw4GE.&
CLASS:PUBLIC
DTSTART:20260430T170000
DTSTAMP:20260424T070409
END:VEVENT
END:VCALENDAR