BEGIN:VCALENDAR
VERSION:2.0
PRODID:http://www.infomax-online.de/imxeventmanager/
METHOD:PUBLISH
BEGIN:VTIMEZONE
TZID:Europe/Berlin
TZURL:http://tzurl.org/zoneinfo-outlook/Europe/Berlin
X-LIC-LOCATION:Europe/Berlin
END:VTIMEZONE
BEGIN:VEVENT
UID:69ea16bcc80e4
LOCATION:Am Gojenboom 46, 22111 Hamburg
SUMMARY;ENCODING=QUOTED-PRINTABLE:Tanzkreis "Op'n Böön"
DESCRIPTION;ENCODING=QUOTED-PRINTABLE:Internationale Tänze im Set oder im Kreis.=0D=0A=0D=0AAuch Einzelpersonen sind willkommen.=0D=0A
URL;VALUE=URI:https://hamburgwhl.infomaxnet.de/standard_widget_de/e-tanzkreis-opn-boeoen?eventDateId=30022984&widgetToken=22vcqFKw4GE.&
CLASS:PUBLIC
DTSTART:20260423T194500
DTSTAMP:20260423T145524
END:VEVENT
END:VCALENDAR