BEGIN:VCALENDAR
VERSION:2.0
PRODID:http://www.infomax-online.de/imxeventmanager/
METHOD:PUBLISH
BEGIN:VTIMEZONE
TZID:Europe/Berlin
TZURL:http://tzurl.org/zoneinfo-outlook/Europe/Berlin
X-LIC-LOCATION:Europe/Berlin
END:VTIMEZONE
BEGIN:VEVENT
UID:69e8d1f5426b6
LOCATION:Burgplatz , 19395 Plau am See
SUMMARY;ENCODING=QUOTED-PRINTABLE:Anradeln am Plauer See
DESCRIPTION;ENCODING=QUOTED-PRINTABLE:Der Frühling steht vor der Tür, und das möchten wir gemeinsam mit=0D=0AIhnen beim Anradeln am Plauer See begrüßen! =0D=0A=0D=0AAm 24. April 2026 laden wir Radfreunde herzlich zur traditionellen=0D=0ASaisoneröffnung ein. Start der geführten Radwanderung ist um 10.00=0D=0AUhr am Burgplatz in Plau am See.=0D=0A=0D=0AFreuen Sie sich auf eine abwechslungsreiche Tour mit einer Länge von=0D=0Aetwa 20 Kilometern, die Sie durch die reizvolle Landschaft rund um den=0D=0ASee führt. Die Strecke verläuft unter anderem in Richtung Karow und=0D=0AZarchlin und bietet herrliche Ausblicke auf Natur und Wasser. Die=0D=0ADauer der Tour beträgt ungefähr 3 bis 4 Stunden und ist ideal für=0D=0AFreizeitradler geeignet.=0D=0A=0D=0AUnterwegs legen sie kurze Stopps ein, bei denen Naturparkführer=0D=0AAndreas Breuer spannende Einblicke in die heimische Tier- und=0D=0APflanzenwelt gibt. Erfahren Sie Wissenswertes über die Besonderheiten=0D=0Ader Region und entdecken Sie verborgene Naturschätze entlang der=0D=0AStrecke. Neben Bewegung und frischer Luft steht vor allem das=0D=0Agemeinsame Erlebnis im Mittelpunkt.=0D=0AOb allein, mit Freunden oder der Familie – das Anradeln ist der=0D=0Aperfekte Auftakt in die neue Fahrradsaison. Wir freuen uns auf viele=0D=0Abegeisterte Teilnehmer und einen aktiven Start in den Frühling!=0D=0AAnmeldung unter Tel. 0171 8095261=0D=0A
URL;VALUE=URI:https://hamburgwhl.infomaxnet.de/standard_widget_de/e-anradeln-am-plauer-see?eventDateId=30022555&widgetToken=22vcqFKw4GE.&
CLASS:PUBLIC
DTSTART:20260424T100000
DTSTAMP:20260422T154941
END:VEVENT
END:VCALENDAR