BEGIN:VCALENDAR
VERSION:2.0
PRODID:http://www.infomax-online.de/imxeventmanager/
METHOD:PUBLISH
BEGIN:VTIMEZONE
TZID:Europe/Berlin
TZURL:http://tzurl.org/zoneinfo-outlook/Europe/Berlin
X-LIC-LOCATION:Europe/Berlin
END:VTIMEZONE
BEGIN:VEVENT
UID:69ea0c0d4eac7
LOCATION:Klöresgang 3, 19053 Schwerin
SUMMARY;ENCODING=QUOTED-PRINTABLE:Gemeinsam Deutsch Sprechen
DESCRIPTION;ENCODING=QUOTED-PRINTABLE:SprachCafé=0D=0A=0D=0AIn entspannter Atmosphäre Deutsch lernen und gleichzeitig neue Leute=0D=0Akennenlernen – das ist im SprachCafé der Stadtbibliothek möglich.=0D=0A=0D=0AIn kleinen Gesprächsrunden tauschen sich Teilnehmende über=0D=0AAlltagsthemen aus, verbessern spielerisch ihre Sprachkenntnisse und=0D=0Agewinnen mehr Sicherheit im Sprechen. Die lockere Umgebung erleichtert=0D=0Aden Austausch und fördert das Lernen ohne Druck.=0D=0A=0D=0AEingeladen sind alle, die ihre Deutschkenntnisse verbessern möchten=0D=0A– unabhängig von Sprachniveau oder Herkunft.=0D=0A=0D=0A =0D=0A=0D=0AWeitere Informationen unter: swurm@schwerin.de oder Tel. 0385 5901922=0D=0A
URL;VALUE=URI:https://hamburgwhl.infomaxnet.de/standard_widget_de/e-gemeinsam-deutsch-sprechen-4?eventDateId=30022541&widgetToken=22vcqFKw4GE.&
CLASS:PUBLIC
DTSTART:20260421T160000
DTSTAMP:20260423T140949
END:VEVENT
END:VCALENDAR