BEGIN:VCALENDAR
VERSION:2.0
PRODID:http://www.infomax-online.de/imxeventmanager/
METHOD:PUBLISH
BEGIN:VTIMEZONE
TZID:Europe/Berlin
TZURL:http://tzurl.org/zoneinfo-outlook/Europe/Berlin
X-LIC-LOCATION:Europe/Berlin
END:VTIMEZONE
BEGIN:VEVENT
UID:69ea205b73513
LOCATION:Am Heimathaus 1, 27419 Sittensen
SUMMARY;ENCODING=QUOTED-PRINTABLE:Kinonachmittag im Heimathaus Sittensen
DESCRIPTION;ENCODING=QUOTED-PRINTABLE:Kinonachmittag mit Kuchenbuffet im Heimathaus=0D=0A=0D=0AIm Programm stehen aktuelle Filme, oft aus dem Vorjahr (z.B. Filme von=0D=0A2024 im Jahr 2025/2026). Vor dem Film gibt es ein Kuchenbuffet, was=0D=0Aden Nachmittag zu einem geselligen Treffen macht.=0D=0AZusätzlich bietet der Seniorenbeirat oft einen Fahrdienst für=0D=0APersonen an, die nicht mobil sind oder keine Möglichkeit haben,=0D=0Aselbstständig zum Kino zu kommen. =0D=0A=0D=0AEine Anmeldung bei Christa Fricke (Tel. 04282/2404) ist für die=0D=0ATeilnahme erforderlich.=0D=0A
URL;VALUE=URI:https://hamburgwhl.infomaxnet.de/standard_widget_de/e-kinonachmittag-im-heimathaus-sittensen?eventDateId=30022079&widgetToken=22vcqFKw4GE.&
CLASS:PUBLIC
DTSTART:20260423T140000
DTSTAMP:20260423T153627
END:VEVENT
END:VCALENDAR