BEGIN:VCALENDAR
VERSION:2.0
PRODID:http://www.infomax-online.de/imxeventmanager/
METHOD:PUBLISH
BEGIN:VTIMEZONE
TZID:Europe/Berlin
TZURL:http://tzurl.org/zoneinfo-outlook/Europe/Berlin
X-LIC-LOCATION:Europe/Berlin
END:VTIMEZONE
BEGIN:VEVENT
UID:69e9d225d7b63
LOCATION:Australiastraße 50a, 20457 Hamburg
SUMMARY;ENCODING=QUOTED-PRINTABLE:Girls'Day
DESCRIPTION;ENCODING=QUOTED-PRINTABLE:Meldet Euch an für ein Speed-Dating im Deutschen Hafenmuseum. Trefft=0D=0AFrauen aus der Hafen-Branche, stellt Fragen und lernt die=0D=0Aunterschiedlichsten Berufe kennen.=0D=0A
URL;VALUE=URI:https://hamburgwhl.infomaxnet.de/standard_widget_de/e-girlsday?eventDateId=30018545&widgetToken=22vcqFKw4GE.&
CLASS:PUBLIC
DTSTART:20260423T093000
DTSTAMP:20260423T100245
END:VEVENT
END:VCALENDAR