BEGIN:VCALENDAR
VERSION:2.0
PRODID:http://www.infomax-online.de/imxeventmanager/
METHOD:PUBLISH
BEGIN:VTIMEZONE
TZID:Europe/Berlin
TZURL:http://tzurl.org/zoneinfo-outlook/Europe/Berlin
X-LIC-LOCATION:Europe/Berlin
END:VTIMEZONE
BEGIN:VEVENT
UID:69e9f5bb5ffd7
LOCATION:Deichtorstraße 1-2, 20095 Hamburg
SUMMARY;ENCODING=QUOTED-PRINTABLE:Young Artists Perspective - Führung mit Kunststudierenden durch die=0D=0AAusstellung HUGUETTE CALAND – A LIFE IN A FEW LINES
DESCRIPTION;ENCODING=QUOTED-PRINTABLE:In diesem Format führen Kunststudierende mit ihrer ganz eigenen Sicht=0D=0Aauf die Ausstellungen der Deichtorhallen – persönlich,=0D=0Aunkonventionell und nah dran an der zeitgenössischen Kunst. Die Young=0D=0AArtists Perspectives laden zu lockeren Gesprächen ein und eröffnen=0D=0Amit ihrem individuellen Zugang spannende neue Blickwinkel auf das=0D=0AWerk.=0D=0A=0D=0AMarie Boiselle ist bildende Künsterlin und studiert an der Hochschule=0D=0Afür bildende Künste in Hamburg. Ihre Arbeiten befassen sich mit=0D=0AMalerei, Räumen und Landschaften, die stark durch digitale=0D=0ABildsysteme geprägt sind. Dafür setzt sie dort an, wo Gestaltung=0D=0Asichtbar ist und dennoch als scheinbar neutraler Zustand gelesen wird.=0D=0AAufgrund begrenzter Teilnahmezahl ist eine Ticketbuchung erforderlich.=0D=0A
URL;VALUE=URI:https://hamburgwhl.infomaxnet.de/standard_widget_de/e-young-artists-perspective-fuehrung-mit-kunststudierenden-durch-die-ausstellung-huguette-ca?eventDateId=30016844&widgetToken=22vcqFKw4GE.&
CLASS:PUBLIC
DTSTART:20260421T160000
DTSTAMP:20260423T123435
END:VEVENT
END:VCALENDAR