BEGIN:VCALENDAR
VERSION:2.0
PRODID:http://www.infomax-online.de/imxeventmanager/
METHOD:PUBLISH
BEGIN:VTIMEZONE
TZID:Europe/Berlin
TZURL:http://tzurl.org/zoneinfo-outlook/Europe/Berlin
X-LIC-LOCATION:Europe/Berlin
END:VTIMEZONE
BEGIN:VEVENT
UID:69ea61f620e0a
LOCATION:Langelohstraße 119, 22609 Hamburg
SUMMARY;ENCODING=QUOTED-PRINTABLE:Crossdorf: Andy Irvine - Irish Folk Legende
DESCRIPTION;ENCODING=QUOTED-PRINTABLE:Eine Veranstaltung der Reihe Crossdorf 2026=0D=0A=0D=0ADie niederländische Musikgruppe Minnewit präsentiert Folkmusik mit=0D=0AAnklängen an die ferne Vergangenheit, die tief in der=0D=0Aniederländischen und friesischen Tradition verwurzelt sind. Die Band=0D=0Aum Marita Kruijswijk (früher sehr bekannt als Kat yn 't Seil) hat=0D=0Asich der Musik der Ostfriesen, bzw. von Friesland in den Niederlanden=0D=0Agewidmet. Es ist insbesondere Musik und Tanz aus den friesischen=0D=0AHeidedörfern anhand von Beschreibungen aus dem 19. Jahrhundert und=0D=0Aalten Aufnahmen aus dem frühen 20. Jahrhundert. Da dies früher eine=0D=0Arelativ arme Region mit hoher Arbeitslosigkeit war, verließen viele=0D=0AMänner, insbesondere zwischen 1900 und 1940, ihre Heimat um anderswo=0D=0AArbeit zu suchen. Einige fuhren zur See, aber viele Friesen gingen=0D=0Aauch auf Bauernhöfe in Preußen. Dort verdienten sie gutes Geld als=0D=0AMelker, da es zu wenige deutsche Arbeiter gab, die diese Arbeit=0D=0Averrichten wollten. Aus den Liedern, die sie in Preußen=0D=0Akennenlernten, machten sie dann ihre eigene Version und nahmen diese=0D=0Amit zurück nach Friesland. Einige dieser Lieder kann Minnewit nun=0D=0Awieder zum Besten geben. Durch die lockere Erzählung interessanter=0D=0Aund manchmal bewegender Hintergrundgeschichten sorgt Minnewit für=0D=0Aeine lebendige Darbietung auf der Bühne. Freuen wir uns auf einen=0D=0Aschönen Abend mit Bezug auf unsere eigene norddeutsche=0D=0AMusiktradition, was in dieser Form sehr selten angeboten wird.=0D=0A
URL;VALUE=URI:https://hamburgwhl.infomaxnet.de/standard_widget_de/e-crossdorf-andy-irvine-irish-folk-legende?eventDateId=30016820&widgetToken=22vcqFKw4GE.&
CLASS:PUBLIC
DTSTART:20260423T193000
DTSTAMP:20260423T201622
END:VEVENT
END:VCALENDAR