BEGIN:VCALENDAR
VERSION:2.0
PRODID:http://www.infomax-online.de/imxeventmanager/
METHOD:PUBLISH
BEGIN:VTIMEZONE
TZID:Europe/Berlin
TZURL:http://tzurl.org/zoneinfo-outlook/Europe/Berlin
X-LIC-LOCATION:Europe/Berlin
END:VTIMEZONE
BEGIN:VEVENT
UID:69ea14a167c37
LOCATION:Am Gojenboom 46, 22111 Hamburg
SUMMARY;ENCODING=QUOTED-PRINTABLE:CHECK MATE!
DESCRIPTION;ENCODING=QUOTED-PRINTABLE:Ein offener und respektvoller Treff. =0D=0A=0D=0AEs sind Geschlechter, Kulturen und Spielstärken willkommen. Mach=0D=0ADeinen ersten Zug und komm vorbei!=0D=0A=0D=0AJeden Dienstag Schach spielen und Community finden=0D=0A=0D=0A	* 18-20 Uhr=0D=0A	* Seminarraum 2 (im Stadtteilhaus HORNER FREIHEIT)=0D=0A=0D=0A
URL;VALUE=URI:https://hamburgwhl.infomaxnet.de/standard_widget_de/e-check-mate?eventDateId=30015197&widgetToken=22vcqFKw4GE.&
CLASS:PUBLIC
DTSTART:20260428T180000
DTSTAMP:20260423T144625
END:VEVENT
END:VCALENDAR