BEGIN:VCALENDAR
VERSION:2.0
PRODID:http://www.infomax-online.de/imxeventmanager/
METHOD:PUBLISH
BEGIN:VTIMEZONE
TZID:Europe/Berlin
TZURL:http://tzurl.org/zoneinfo-outlook/Europe/Berlin
X-LIC-LOCATION:Europe/Berlin
END:VTIMEZONE
BEGIN:VEVENT
UID:69ed0872ad6a6
LOCATION:Travemünder Landstraße 284, 23570 Travemünde
SUMMARY;ENCODING=QUOTED-PRINTABLE:Schlager Cruise
DESCRIPTION;ENCODING=QUOTED-PRINTABLE:Leinen los für das ultimative Schlager-Erlebnis auf der Ostsee! Die=0D=0AFinnswan wird zur Partybühne und DJ Stephan Nanz sorgt für den Sound=0D=0Ades Abends - mit Schlager-Klassikern, aktuellen Hits und allem, was=0D=0Aman einfach mitsingen muss.=0D=0A=0D=0A25. bis 26. April 2026=0D=0AFinnlines-Fähre Travemünde-Malmö=0D=0A=0D=0AIn rund 24 Stunden erwartet dich die perfekte Mischung aus Party und=0D=0AAuszeit auf der Ostsee.=0D=0A=0D=0ADu verbringst eine Nacht an Bord der Finnswan und bekommst dabei=0D=0Aalles, was es für einen gelungenen Party-Abend auf See braucht: eine=0D=0Akomfortable Kabine, Frühstück am Samstag zum Start, ein=0D=0Askandinavisches Abendbuffet und am Sonntag noch einmal Frühstück vor=0D=0Ader Ankunft. Dazwischen wird getanzt, mitgesungen und gefeiert - mit=0D=0ADJ Stephan Nanz und Schlagerhits, die jeder kennt, und einer Stimmung,=0D=0Adie sofort ansteckt.=0D=0A=0D=0AAlles ist vorbereitet. Du musst nur an Bord kommen!=0D=0A
URL;VALUE=URI:https://hamburgwhl.infomaxnet.de/standard_widget_de/e-schlager-cruise?eventDateId=30014984&widgetToken=22vcqFKw4GE.&
CLASS:PUBLIC
DTSTART:20260425T090000
DTSTAMP:20260425T203114
END:VEVENT
END:VCALENDAR