BEGIN:VCALENDAR
VERSION:2.0
PRODID:http://www.infomax-online.de/imxeventmanager/
METHOD:PUBLISH
BEGIN:VTIMEZONE
TZID:Europe/Berlin
TZURL:http://tzurl.org/zoneinfo-outlook/Europe/Berlin
X-LIC-LOCATION:Europe/Berlin
END:VTIMEZONE
BEGIN:VEVENT
UID:69ea215f589e5
LOCATION:Alexandrinenplatz , 19288 Ludwigslust
SUMMARY;ENCODING=QUOTED-PRINTABLE:Regionalmarkt Ludwigslust
DESCRIPTION;ENCODING=QUOTED-PRINTABLE:Regionale Lebensmittel und Kunsthandwerk aus eigener Herstellung=0D=0Awerden einmal jährlich am Samstag auf dem Alexandrinenplatz=0D=0Aangeboten.=0D=0A=0D=0ARegionale Lebensmittel und Kunsthandwerk aus eigener Herstellung=0D=0Awerden auf dem Alexandrinenplatz angeboten.=0D=0A=0D=0AErgänzt um ein ansprechendes Rahmenprogramm ist der Markt von 10 bis=0D=0A15 Uhr ein attraktives Ziel mit einem angenehmen Aufenthalt für die=0D=0Aganze Familie. =0D=0A=0D=0AVERANSTALTUNGSORT=0D=0AAlexandrinenplatz=0D=0A=0D=0AJETZT EINEN STANDPLATZ SICHERN!=0D=0A=0D=0AMöchten auch Sie mit Ihrem Sortiment für Regionalität begeistern?=0D=0ADann bewerben Sie sich am besten gleich für einen Standplatz.=0D=0AWir sind schon gespannt auf die Vielfalt und freuen uns auf=0D=0ASie! BEWERBUNGSSCHLUSS IST 1 WOCHE VOR DEM MARKTTERMIN. =0D=0A=0D=0AAlle weiteren Informationen und das Bewerbungsformular finden Sie auf=0D=0Ader Website: https://www.ludwigslust.de/Regionalmarkt/=0D=0A
URL;VALUE=URI:https://hamburgwhl.infomaxnet.de/standard_widget_de/e-regionalmarkt-ludwigslust?eventDateId=30008026&widgetToken=22vcqFKw4GE.&
CLASS:PUBLIC
DTSTART:20260418T100000
DTSTAMP:20260423T154047
END:VEVENT
END:VCALENDAR