BEGIN:VCALENDAR
VERSION:2.0
PRODID:http://www.infomax-online.de/imxeventmanager/
METHOD:PUBLISH
BEGIN:VTIMEZONE
TZID:Europe/Berlin
TZURL:http://tzurl.org/zoneinfo-outlook/Europe/Berlin
X-LIC-LOCATION:Europe/Berlin
END:VTIMEZONE
BEGIN:VEVENT
UID:69ea5ac831d69
LOCATION:Besenbinderhof 57a, 20097 Hamburg
SUMMARY;ENCODING=QUOTED-PRINTABLE:Marte Meo Fachtag mit Maria Aarts präsentiert von Impuls Soziales=0D=0AManagement
DESCRIPTION;ENCODING=QUOTED-PRINTABLE:Fachtag für pädagogische Fach- und Führungskräfte (Preis inkl.=0D=0AGetränken sowie einem kleinen vegetarisch-veganen Mittagssnack),=0D=0Abitte beachten Sie unsere AGBs beim Kauf:=0D=0Ahttps://www.e-impuls.de/agbs/=0D=0A=0D=0AAm 24. April 2026 lädt Impuls Soziales Management pädagogische Fach-=0D=0Aund Führungskräfte zu einem Marte Meo Fachtag mit Maria Aarts ein=0D=0A– der Begründerin der Marte-Meo-Methode.=0D=0A=0D=0AMarte Meo bedeutet „aus eigener Kraft“. Im Mittelpunkt steht der=0D=0Aressourcenorientierte Blick auf Kinder, Fachkräfte und Teams. Der=0D=0AFachtag vermittelt praxisnah, wie Entwicklungsprozesse bewusst=0D=0Abegleitet, Interaktionen gestärkt und pädagogische Qualität=0D=0Anachhaltig weiterentwickelt werden können – im Kita-Alltag ebenso=0D=0Awie in Leitungs- und Beratungskontexten.=0D=0A=0D=0AMaria Aarts gibt Einblicke in die Grundhaltung und Wirkweise von Marte=0D=0AMeo und zeigt anhand konkreter Videobeispiele, wie kleine=0D=0AVeränderungen in der Interaktion große Wirkung entfalten können.=0D=0A=0D=0ADer Fachtag richtet sich bspw. an:=0D=0A=0D=0APädagogische Fachkräfte in Krippe, Kita und Hort=0D=0A=0D=0ALeitungen und stellvertretende Leitungen=0D=0A=0D=0AFachberatungen, Praxisanleitungen und pädagogische Koordinator:innen=0D=0A=0D=0AAblauf=0D=0A=0D=0A9:30 Uhr Einlass und Ankommen=0D=0A=0D=0A9:50–10:00 Uhr Begrüßung durch Lisa Egen, Geschäftsführerin=0D=0AImpuls Soziales Management=0D=0A=0D=0A10:00–11:00 Uhr 1. Vortragsblock=0D=0A=0D=0A11:00–11:30 Uhr Kaffeepause=0D=0A=0D=0A11:30–12:30 Uhr 2. Vortragsblock=0D=0A=0D=0A12:30–13:30 Uhr Mittagspause=0D=0A=0D=0A13:30–14:30 Uhr 3. Vortragsblock=0D=0A=0D=0A14:30–15:00 Uhr Kaffeepause=0D=0A=0D=0A15:00–16:00 Uhr 4. Vortragsblock=0D=0A
URL;VALUE=URI:https://hamburgwhl.infomaxnet.de/standard_widget_de/e-marte-meo-fachtag-mit-maria-aarts-praesentiert-von-impuls-soziales-management?eventDateId=30007887&widgetToken=22vcqFKw4GE.&
CLASS:PUBLIC
DTSTART:20260424T093000
DTSTAMP:20260423T194544
END:VEVENT
END:VCALENDAR