BEGIN:VCALENDAR
VERSION:2.0
PRODID:http://www.infomax-online.de/imxeventmanager/
METHOD:PUBLISH
BEGIN:VTIMEZONE
TZID:Europe/Berlin
TZURL:http://tzurl.org/zoneinfo-outlook/Europe/Berlin
X-LIC-LOCATION:Europe/Berlin
END:VTIMEZONE
BEGIN:VEVENT
UID:69ed946a392cd
LOCATION:Bramfelder Chaussee 265 , 22177 Hamburg
SUMMARY;ENCODING=QUOTED-PRINTABLE:„Kollin und der freche Drache Blitz“” – Kindertheater
DESCRIPTION;ENCODING=QUOTED-PRINTABLE:Puppentheatergeschichte von Maya Raue mit dem stadtbekannten Hund=0D=0AKollin Kläff und Drache Blitz =0D=0A=0D=0ADer kleine Drache Blitz darf trotz seiner 2 Jahre heute beim=0D=0APuppentheater mitspielen. Gemeinsam mit Puppenspielerin Maya Raue=0D=0Abereitet er alles vor: Licht einschalten, Vorhang öffnen, hinter die=0D=0ABühne gehen und leise sein. So verlieren selbst die jüngsten=0D=0AZuschauer*innen schnell ihre Scheu, denn Blitz ist neugierig,=0D=0Afröhlich und voller Energie – auch wenn er manchmal unbedacht und=0D=0Afrech ist. Damit bringt er Kollin Kläff und die anderen Puppen=0D=0Aordentlich durcheinander, sehr zur Freude der Kinder. Blitz muss eben=0D=0Anoch viel lernen: Keine Blumen ärgern, nichts wegnehmen und=0D=0Anatürlich Zähne putzen! Ein humorvolles, interaktives Familienstück=0D=0Afür alle ab 2 Jahren.=0D=0A
URL;VALUE=URI:https://hamburgwhl.infomaxnet.de/standard_widget_de/e-kollin-und-der-freche-drache-blitz-8221-kindertheater?eventDateId=30007650&widgetToken=22vcqFKw4GE.&
CLASS:PUBLIC
DTSTART:20260426T110000
DTSTAMP:20260426T062826
END:VEVENT
END:VCALENDAR