BEGIN:VCALENDAR
VERSION:2.0
PRODID:http://www.infomax-online.de/imxeventmanager/
METHOD:PUBLISH
BEGIN:VTIMEZONE
TZID:Europe/Berlin
TZURL:http://tzurl.org/zoneinfo-outlook/Europe/Berlin
X-LIC-LOCATION:Europe/Berlin
END:VTIMEZONE
BEGIN:VEVENT
UID:69e82928c3316
LOCATION:Hauptstraße 12, 29649 Wietzendorf
SUMMARY;ENCODING=QUOTED-PRINTABLE:Rentenberatung
DESCRIPTION;ENCODING=QUOTED-PRINTABLE:Rentenberatung der Deutschen Rentenversicherung im Rathaus in=0D=0AWietzendorf.=0D=0AInteressierte vereinbaren bitte unbedingt unter Tel. 05196=0D=0A978-0 einen Termin.=0D=0A
URL;VALUE=URI:https://hamburgwhl.infomaxnet.de/standard_widget_de/e-rentenberatung?eventDateId=30007442&widgetToken=22vcqFKw4GE.&
CLASS:PUBLIC
DTSTART:20260422T090000
DTSTAMP:20260422T034928
END:VEVENT
END:VCALENDAR