BEGIN:VCALENDAR
VERSION:2.0
PRODID:http://www.infomax-online.de/imxeventmanager/
METHOD:PUBLISH
BEGIN:VTIMEZONE
TZID:Europe/Berlin
TZURL:http://tzurl.org/zoneinfo-outlook/Europe/Berlin
X-LIC-LOCATION:Europe/Berlin
END:VTIMEZONE
BEGIN:VEVENT
UID:69ea47eae7b9e
LOCATION:Mittelweg 42, 20148 Hamburg
SUMMARY;ENCODING=QUOTED-PRINTABLE:Enter Your Stage
DESCRIPTION;ENCODING=QUOTED-PRINTABLE:Die Staatliche Jugendmusikschule präsentiert:=0D=0AEnter Your Stage - Tanz und Töne aus Hamburger Schule=0D=0A=0D=0AMit der Band: Fann.ymotion=0D=0A=0D=0AMit den Schulen; Stadtteilschule Irena-Sendler, Grundschule Am=0D=0AJohannisland, Schule Barlsheide, Grundschule Kirchdorf, Schule=0D=0AErnst-Henning-Straße, Schule Am Schleemer Park=0D=0A=0D=0AModeration: Karen Tinapp=0D=0A=0D=0ACopyright: JMS=0D=0A
URL;VALUE=URI:https://hamburgwhl.infomaxnet.de/standard_widget_de/e-enter-your-stage?eventDateId=30002308&widgetToken=22vcqFKw4GE.&
CLASS:PUBLIC
DTSTART:20260423T160000
DTSTAMP:20260423T182514
END:VEVENT
END:VCALENDAR