BEGIN:VCALENDAR
VERSION:2.0
PRODID:http://www.infomax-online.de/imxeventmanager/
METHOD:PUBLISH
BEGIN:VTIMEZONE
TZID:Europe/Berlin
TZURL:http://tzurl.org/zoneinfo-outlook/Europe/Berlin
X-LIC-LOCATION:Europe/Berlin
END:VTIMEZONE
BEGIN:VEVENT
UID:69e5ed2bb4e0d
LOCATION:Ferdinandstraße 12, 20095 Hamburg
SUMMARY;ENCODING=QUOTED-PRINTABLE:Ü40 Matching Night Hamburg
DESCRIPTION;ENCODING=QUOTED-PRINTABLE:Eine Veranstaltung der Reihe Matching Night Hamburg=0D=0A=0D=0AHast du genug von den immer gleichen Dating-Apps? Dann komm zur=0D=0A„Matching Night“, dem beliebten Single-Event in Hamburg!=0D=0A=0D=0ABei der Matching Night triffst du bis zu 250 Singles in deiner Stadt=0D=0Ain einer entspannten Baratmosphäre. Anhand farbiger Bänder, die die=0D=0ATeilnehmenden nach einem kurzen Persönlichkeitstest erhalten, kannst=0D=0Adu sofort sehen, wer am besten zu dir passt und warum.=0D=0A=0D=0AUm den Gesprächseinstieg mit anderen Singles so einfach wie möglich=0D=0Azu gestalten, haben wir das international bekannte "Lock &=0D=0AKey"-Eisbrecher-Element eingeführt. Hierbei bekommt jede Frau einen=0D=0ASchlüssel und jeder Mann ein Schloss. Wenn ein passender Schlüssel=0D=0Azum Schloss gefunden wird, winkt die Chance, auf einen Preis. Das=0D=0AKennenlernen war noch nie so leicht!=0D=0A=0D=0AWorauf wartest du also noch? Melde dich jetzt zur Matching Night an=0D=0Aund finde dein perfektes Match!=0D=0A
URL;VALUE=URI:https://hamburgwhl.infomaxnet.de/standard_widget_de/e-ue40-matching-night-hamburg?eventDateId=30001073&widgetToken=22vcqFKw4GE.&
CLASS:PUBLIC
DTSTART:20260423T190000
DTSTAMP:20260420T110859
END:VEVENT
END:VCALENDAR