BEGIN:VCALENDAR
VERSION:2.0
PRODID:http://www.infomax-online.de/imxeventmanager/
METHOD:PUBLISH
BEGIN:VTIMEZONE
TZID:Europe/Berlin
TZURL:http://tzurl.org/zoneinfo-outlook/Europe/Berlin
X-LIC-LOCATION:Europe/Berlin
END:VTIMEZONE
BEGIN:VEVENT
UID:69e829413cce4
LOCATION:Nystedplatz , 23747 Dahme
SUMMARY;ENCODING=QUOTED-PRINTABLE:Geführte Wanderung mit Einführung ins Pilgern
DESCRIPTION;ENCODING=QUOTED-PRINTABLE:Geführte Wanderung mit Einführung ins Pilgern mit Urlaubseelsorger=0D=0APater Ralf. Treffpunkt: Seebrücke=0D=0A
URL;VALUE=URI:https://hamburgwhl.infomaxnet.de/standard_widget_de/e-gefuehrte-wanderung-mit-einfuehrung-ins-pilgern-20?eventDateId=30000698&widgetToken=22vcqFKw4GE.&
CLASS:PUBLIC
DTSTART:20260422T080000
DTSTAMP:20260422T034953
END:VEVENT
END:VCALENDAR