BEGIN:VCALENDAR
VERSION:2.0
PRODID:http://www.infomax-online.de/imxeventmanager/
METHOD:PUBLISH
BEGIN:VTIMEZONE
TZID:Europe/Berlin
TZURL:http://tzurl.org/zoneinfo-outlook/Europe/Berlin
X-LIC-LOCATION:Europe/Berlin
END:VTIMEZONE
BEGIN:VEVENT
UID:69ed460320881
LOCATION:Seebrückenvorplatz , 23743 Grömitz
SUMMARY;ENCODING=QUOTED-PRINTABLE:Musikalischer Umzug
DESCRIPTION;ENCODING=QUOTED-PRINTABLE:Wir gehen gemeinsam in Begleitung des Feuerwehrmusikzuges zum=0D=0AMai-Feuer in den Kurpark.=0D=0A
URL;VALUE=URI:https://hamburgwhl.infomaxnet.de/standard_widget_de/e-musikalischer-umzug?eventDateId=30000513&widgetToken=22vcqFKw4GE.&
CLASS:PUBLIC
DTSTART:20260430T180000
DTSTAMP:20260426T005355
END:VEVENT
END:VCALENDAR