BEGIN:VCALENDAR
VERSION:2.0
PRODID:http://www.infomax-online.de/imxeventmanager/
METHOD:PUBLISH
BEGIN:VTIMEZONE
TZID:Europe/Berlin
TZURL:http://tzurl.org/zoneinfo-outlook/Europe/Berlin
X-LIC-LOCATION:Europe/Berlin
END:VTIMEZONE
BEGIN:VEVENT
UID:69e7e3120543a
LOCATION:Wandsbeker Allee 64, 22041 Hamburg
SUMMARY;ENCODING=QUOTED-PRINTABLE:Chinesischer Spielesamstag
DESCRIPTION;ENCODING=QUOTED-PRINTABLE:Zu Gast in der Bücherhalle Wandsbek bietet das Konfuzius-Institut=0D=0AHamburg einmal monatlich einen lockeren Spielesamstag an. Im=0D=0AMittelpunkt stehen chinesische Brettspiele, wie z.B. Weiqi (Go) und=0D=0AXiangqi (China-Schach), aber auch das japanische Shogi. Spieler üben=0D=0Asich hier in ihrer Kunst und Interessierte sind herzlich willkommen,=0D=0Aden erfahrenen Spielern bei einer Tasse Tee über die Schulter zu=0D=0Aschauen, erste Einblicke zu gewinnen und mitzuspielen. Der Eintritt=0D=0Aist frei.=0D=0A=0D=0AKooperationspartner: Go-Landesverband Hamburg, Spielegemeinschaft=0D=0AXiangqi Hamburg, Deutscher Xiangqi Bund, Bücherhalle Wandsbek=0D=0A
URL;VALUE=URI:https://hamburgwhl.infomaxnet.de/standard_widget_de/e-chinesischer-spielesamstag-65?eventDateId=29995845&widgetToken=22vcqFKw4GE.&
CLASS:PUBLIC
DTSTART:20260425T103000
DTSTAMP:20260421T225026
END:VEVENT
END:VCALENDAR