BEGIN:VCALENDAR
VERSION:2.0
PRODID:http://www.infomax-online.de/imxeventmanager/
METHOD:PUBLISH
BEGIN:VTIMEZONE
TZID:Europe/Berlin
TZURL:http://tzurl.org/zoneinfo-outlook/Europe/Berlin
X-LIC-LOCATION:Europe/Berlin
END:VTIMEZONE
BEGIN:VEVENT
UID:69ea24d269a69
LOCATION:Heider Straße 1, 20251 Hamburg
SUMMARY;ENCODING=QUOTED-PRINTABLE:Kimmix – Kirche mit X-tras für Kinder mit X (IX – XII)
DESCRIPTION;ENCODING=QUOTED-PRINTABLE:VERANSTALTER=0D=0A=0D=0A	* Ev.-luth. Kirchengemeinde St. Markus-Hoheluft=0D=0A[https://www.nordkirche.de/institution/?nkci=390]=0D=0A=0D=0A
URL;VALUE=URI:https://hamburgwhl.infomaxnet.de/standard_widget_de/e-kimmix-kirche-mit-x-tras-fuer-kinder-mit-x-ix-xii-22?eventDateId=29991395&widgetToken=22vcqFKw4GE.&
CLASS:PUBLIC
DTSTART:20260424T180000
DTSTAMP:20260423T155530
END:VEVENT
END:VCALENDAR