BEGIN:VCALENDAR
VERSION:2.0
PRODID:http://www.infomax-online.de/imxeventmanager/
METHOD:PUBLISH
BEGIN:VTIMEZONE
TZID:Europe/Berlin
TZURL:http://tzurl.org/zoneinfo-outlook/Europe/Berlin
X-LIC-LOCATION:Europe/Berlin
END:VTIMEZONE
BEGIN:VEVENT
UID:69e7e7a1c94db
LOCATION:Heider Straße 1, 20251 Hamburg
SUMMARY;ENCODING=QUOTED-PRINTABLE:Kinderflohmarkt
DESCRIPTION;ENCODING=QUOTED-PRINTABLE:Draußen und drinnen, für Kinderkleidung, Spielzeug und kleine=0D=0AFahrgeräte und mit Café.=0D=0A=0D=0AStandanmeldungen nur per email ab 4. April 2026:=0D=0Akinderflohmarkt@stmarkushoheluft.de=0D=0A3m Standbreite: 15,- € und ein Kuchen oder 20,- €=0D=0A=0D=0ALEITUNG=0D=0A=0D=0ATeam Kinderflohmarkt=0D=0A=0D=0AVERANSTALTER=0D=0A=0D=0A	* Ev.-luth. Kirchengemeinde St. Markus-Hoheluft=0D=0A[https://www.nordkirche.de/institution/?nkci=390]=0D=0A=0D=0A
URL;VALUE=URI:https://hamburgwhl.infomaxnet.de/standard_widget_de/e-kinderflohmarkt-16?eventDateId=29991386&widgetToken=22vcqFKw4GE.&
CLASS:PUBLIC
DTSTART:20260425T100000
DTSTAMP:20260421T230953
END:VEVENT
END:VCALENDAR