BEGIN:VCALENDAR
VERSION:2.0
PRODID:http://www.infomax-online.de/imxeventmanager/
METHOD:PUBLISH
BEGIN:VTIMEZONE
TZID:Europe/Berlin
TZURL:http://tzurl.org/zoneinfo-outlook/Europe/Berlin
X-LIC-LOCATION:Europe/Berlin
END:VTIMEZONE
BEGIN:VEVENT
UID:69ea627ce31b3
LOCATION:Schüttdamm 60, 21756 Osten
SUMMARY;ENCODING=QUOTED-PRINTABLE:Training Luftgewehr und Luftpistole für Schüler und Jugend ab 12=0D=0AJahre vom SV Schüttdamm-Isensee e.V. & Schießclub Isensee e.V.
DESCRIPTION;ENCODING=QUOTED-PRINTABLE:Training Luftgewehr und Luftpistole für Schüler und Jugend ab 12=0D=0AJahre, im Sommerhalbjahr auch Kleinkaliber ab 14 Jahre.=0D=0A
URL;VALUE=URI:https://hamburgwhl.infomaxnet.de/standard_widget_de/e-training-luftgewehr-und-luftpistole-fuer-schueler-und-jugend-ab-12-jahre-vom-sv-schuettdam?eventDateId=29982693&widgetToken=22vcqFKw4GE.&
CLASS:PUBLIC
DTSTART:20260429T183000
DTSTAMP:20260423T201836
END:VEVENT
END:VCALENDAR