BEGIN:VCALENDAR
VERSION:2.0
PRODID:http://www.infomax-online.de/imxeventmanager/
METHOD:PUBLISH
BEGIN:VTIMEZONE
TZID:Europe/Berlin
TZURL:http://tzurl.org/zoneinfo-outlook/Europe/Berlin
X-LIC-LOCATION:Europe/Berlin
END:VTIMEZONE
BEGIN:VEVENT
UID:69ea627fb60e1
LOCATION:Schüttdamm 60, 21756 Osten
SUMMARY;ENCODING=QUOTED-PRINTABLE:Training Lichtpunktschießen für Schüler von 6 bis 11 Jahre vom SV=0D=0ASchüttdamm-Isensee e.V. & Schießclub Isensee e.V.
DESCRIPTION;ENCODING=QUOTED-PRINTABLE:Training Lichtpunktschießen für Schüler von 6 bis 11 Jahre=0D=0A(Gewehr und Pistole)=0D=0A
URL;VALUE=URI:https://hamburgwhl.infomaxnet.de/standard_widget_de/e-training-lichtpunktschiessen-fuer-schueler-von-6-bis-11-jahre-vom-sv-schuettdamm-isensee-e?eventDateId=29982610&widgetToken=22vcqFKw4GE.&
CLASS:PUBLIC
DTSTART:20260427T180000
DTSTAMP:20260423T201839
END:VEVENT
END:VCALENDAR