BEGIN:VCALENDAR
VERSION:2.0
PRODID:http://www.infomax-online.de/imxeventmanager/
METHOD:PUBLISH
BEGIN:VTIMEZONE
TZID:Europe/Berlin
TZURL:http://tzurl.org/zoneinfo-outlook/Europe/Berlin
X-LIC-LOCATION:Europe/Berlin
END:VTIMEZONE
BEGIN:VEVENT
UID:69ea20b63c821
LOCATION:Deichstraße , 25704 Meldorf
SUMMARY;ENCODING=QUOTED-PRINTABLE:Wattwanderung "Meldorfer Bucht"
DESCRIPTION;ENCODING=QUOTED-PRINTABLE:Das Watterlebnis in der Meldorfer Bucht=0D=0A=0D=0A =0D=0A=0D=0AAuf dieser ausgedehnten Wattwanderung durch die Meldorfer Bucht=0D=0Aerleben Sie eine von=0D=0Aden Gezeiten geformte Wildnis. Der Gezeitentakt des Atlantiks formte=0D=0Ahier in der=0D=0Asüdöstlichen Nordsee ein faszinierendes Ökosystem voller Kraft,=0D=0ADynamik und=0D=0AEinzigartigkeit, welches als Lebensraum unzähliger Tier- und=0D=0APflanzenarten sowie als=0D=0ARast- und Brutgebiet vieler Seevögel von internationaler Bedeutung=0D=0Aist.=0D=0AWissenswerte Themen über das marine Ökosystem Wattenmeer begleiten=0D=0Adiese=0D=0Aerlebnisreiche Wanderung durch Watt und Priel. Regionale=0D=0ABesonderheiten der=0D=0ADithmarscher Nordseeküste runden den Besuch im Nationalpark=0D=0ASchleswig-=0D=0AHolsteinisches Wattenmeer ab.DAUER: Wattstrecke ca. 8 km, Dauer=0D=0AWattwanderung: ca. 4,5 Stunden=0D=0ATREFFPUNKT: BADESTELLE NORDERMELDORF=0D=0A[https://www.echt-dithmarschen.de/typisch-dithmarschen/sehenswuerdigkeiten/details/badestelle-nordermeldorf/],=0D=0ADritter Querweg/ Deichstraße, 25704 Nordermeldorf. Info-Tafel=0D=0ANationalpark.=0D=0AKLEIDUNG: Warme und dem Wetter entsprechende, feste Kleidung. In der=0D=0Akalten Jahreszeit lange, fest sitzende Gummistiefel. In der warmen=0D=0ABarfußzeit werden für die Durchquerung eines Prieles=0D=0ABeachies-Wattsocken oder Leinenturnschuhe empfohlen.=0D=0APREISE: bis16 Jahre 20 €, Erwachsene 25 €=0D=0AINFO: Nationalpark-Wattführer Michael Wieben, Telefon 0175/2675150, =0D=0AE-Mail: mwieben@gmx.de=0D=0AOnline-Anmeldung unter WATTERLEBEN.DE [https://watterleben.de]=0D=0Aerforderlich=0D=0A =0D=0A
URL;VALUE=URI:https://hamburgwhl.infomaxnet.de/standard_widget_de/e-wattwanderung-meldorfer-bucht?eventDateId=29979535&widgetToken=22vcqFKw4GE.&
CLASS:PUBLIC
DTSTART:20260425T113000
DTSTAMP:20260423T153758
END:VEVENT
END:VCALENDAR