BEGIN:VCALENDAR
VERSION:2.0
PRODID:http://www.infomax-online.de/imxeventmanager/
METHOD:PUBLISH
BEGIN:VTIMEZONE
TZID:Europe/Berlin
TZURL:http://tzurl.org/zoneinfo-outlook/Europe/Berlin
X-LIC-LOCATION:Europe/Berlin
END:VTIMEZONE
BEGIN:VEVENT
UID:69ea3346b43da
LOCATION:Südstrand 11, 25761 Büsum
SUMMARY;ENCODING=QUOTED-PRINTABLE:Wattwanderung "Scholloch"
DESCRIPTION;ENCODING=QUOTED-PRINTABLE:Wattwanderung mit Nationalpark- Wattführer=0D=0A=0D=0A =0D=0A=0D=0ADie Weite der Wattlandschaft mit den unterschiedlichen Wattarten, die=0D=0AKraft der Flüsse des Meeres, wie die Norderpiep, Scholl-Loch und=0D=0AOssengoot werden Sie hautnah wahrnehmen. Der Ossengoot ist ein wilder,=0D=0Areißender Priel nordwestlich von Büsum. Feste und durchtränkte=0D=0ASandwatten bilden die Wattstruktur. Es besteht die Chance während der=0D=0AWanderung Seehunde zu beobachten und Bernstein zu finden. Am Ziel=0D=0Aangekommen spürt man den Atem der Nordsee. Auf dem Rückweg erwartet=0D=0Auns eine Prieltaufe. Jeder Teilnehmer erhält eine Watturkunde mit=0D=0ADarstellung der Wanderstrecke in der Seekarte.=0D=0ALÄNGE DER WATTWANDERUNG CA. 6 KM. TEILNAHME AB 12 JAHRE, BEGRENZTE=0D=0ATEILNEHMERZAHL. ANMELDUNG  ERFORDERLICH!=0D=0AFolgende Wanderausrüstung benötigen Sie: Regenfeste Kleidung,=0D=0AKopfbedeckung, Proviant, evtl. Fernglas und Bestimmungsbuch. Wir=0D=0Alaufen barfuß oder mit geeignetem festen Schuhwerk.=0D=0ABei witterungsbedingtem Ausfall der Wattwanderung preisgleiches=0D=0AAlternativangebot; Exkursion (ca. 4-5 Std.) mit eigenen PKWs entlang=0D=0Ader Küste "Zwischen Eider und Elbe" mit Salzwiesenführung zur Hallig=0D=0AHelmsand.=0D=0ATREFFPUNKT: Hauptaufgang  Nr. 4 zwischen Hotel Lighthouse und=0D=0ASchwimmbad "Meerzeit". =0D=0ADAUER: ca. 3 Stunden=0D=0AAUSKUNFT+ANMELDUNG (NUR TELEFONISCH MÖGLICH):=0D=0ANationalpark-Wattführer Johann P. Franzen  Tel.: 04834  9844766=0D=0A mail  Reise-Service-Franzen@t-online.de=0D=0A =0D=0A
URL;VALUE=URI:https://hamburgwhl.infomaxnet.de/standard_widget_de/e-wattwanderung-scholloch-1?eventDateId=29979493&widgetToken=22vcqFKw4GE.&
CLASS:PUBLIC
DTSTART:20260423T100000
DTSTAMP:20260423T165710
END:VEVENT
END:VCALENDAR