BEGIN:VCALENDAR
VERSION:2.0
PRODID:http://www.infomax-online.de/imxeventmanager/
METHOD:PUBLISH
BEGIN:VTIMEZONE
TZID:Europe/Berlin
TZURL:http://tzurl.org/zoneinfo-outlook/Europe/Berlin
X-LIC-LOCATION:Europe/Berlin
END:VTIMEZONE
BEGIN:VEVENT
UID:69eccec5d9e70
LOCATION:Saarlandstraße 37, 22303 Hamburg
SUMMARY;ENCODING=QUOTED-PRINTABLE:Stadtführung durch den Hamburger Stadtpark
DESCRIPTION;ENCODING=QUOTED-PRINTABLE:Ende des 19. Jahrhunderts waren die Wohnverhältnisse für viele so=0D=0Aschlecht, dass sich der erste Direktor der Kunsthalle, Alfred=0D=0ALichtwark, fragte, ob denn Hamburg, "wenn nicht ein großer Stadtpark=0D=0Ageschaffen wird, auf die Dauer bewohnbar bleibt?" Der wurde am 1. Juli=0D=0A1914 schließlich eröffnet. Nicht nur zum Promenieren, sondern als=0D=0AOrt des Lebens: mit Sport- und Spielflächen, mit Rasenflächen zum=0D=0ABetreten, mit Licht und Luft auch für die einfache Bevölkerung. Er=0D=0Awurde von so großen Gartenbauarchitekten wie Fritz Schumacher und=0D=0AOtto Linne konzipiert. Bis heute vereinigt dieser erste Volkspark=0D=0Areizvolle landschaftliche Bereiche mit strukturierten Parkräumen zu=0D=0Aeinem großen Ganzen. Ein Bürgerpark mit einer lebhaften und=0D=0Awechselvollen Geschichte, die wir bei unserem Rundgang ein Stück weit=0D=0Akennen lernen werden.=0D=0A
URL;VALUE=URI:https://hamburgwhl.infomaxnet.de/standard_widget_de/e-stadtfuehrung-durch-den-hamburger-stadtpark?eventDateId=29971020&widgetToken=22vcqFKw4GE.&
CLASS:PUBLIC
DTSTART:20260425T110000
DTSTAMP:20260425T162509
END:VEVENT
END:VCALENDAR