BEGIN:VCALENDAR
VERSION:2.0
PRODID:http://www.infomax-online.de/imxeventmanager/
METHOD:PUBLISH
BEGIN:VTIMEZONE
TZID:Europe/Berlin
TZURL:http://tzurl.org/zoneinfo-outlook/Europe/Berlin
X-LIC-LOCATION:Europe/Berlin
END:VTIMEZONE
BEGIN:VEVENT
UID:69e85ae68ade7
LOCATION:Stockmeyerstraße 43, 20457 Hamburg
SUMMARY;ENCODING=QUOTED-PRINTABLE:Simon Moullier - Ceiba
DESCRIPTION;ENCODING=QUOTED-PRINTABLE:“Best vibes player I’ve heard...” - Quincy Jones=0D=0A“His music is fresh, it speaks to everyone. Never heard anyone play=0D=0Avibes like that before.” - Herbie Hancock=0D=0A“Simon Moullier is the unchallenged new star of jazz vibraphone.”=0D=0A- Brian Morton, DownBeat =0D=0A=0D=0ASimon Moullier (vibes)=0D=0ALex Korten (piano)=0D=0AMats Sandahl (bass)=0D=0AJK Kim (drums) =0D=0A=0D=0AAuf seiner aktuellen Europatournee präsentiert SIMON MOULLIER sein=0D=0Abrandneues Album CEIBA. Er zeigt, wie modern das Vibraphon im Jazz=0D=0Aheute klingen kann: klar, fokussiert, emotional aufgeladen. Es steht=0D=0Adabei nicht im Vordergrund als Effektinstrument, sondern als=0D=0Aerzählende Stimme – warm, präsent, verführerisch. Ein Sound, der=0D=0Agleichzeitig nach Club, Konzertsaal und innerem Kino klingt. =0D=0A=0D=0ADer preisgekrönte Vibraphonist, Komponist, Arrangeur und Produzent=0D=0AMoullier ist hierzulande weitgehend unbekannt, obwohl er sich längst=0D=0Aals einer der führenden Vertreter seiner Generation profiliert hat.=0D=0AZu seinen Mentoren zählten Quincy Jones, Herbie Hancock, Wayne=0D=0AShorter und Jimmy Heath am Thelonious-Monk-Institute, sowie Darren=0D=0ABarrett am Berklee College of Music. Moullier hat mit Künstlern wie=0D=0AGerald Clayton, Terri-Lyne Carrington, Ben Wendel und dem SFJAZZ=0D=0ACollective zusammengearbeitet. Außerdem ist er auf Aufnahmen von Mark=0D=0ATurner, Kendrick Scott und Miguel Zenón zu hören.=0D=0A
URL;VALUE=URI:https://hamburgwhl.infomaxnet.de/standard_widget_de/e-simon-moullier-ceiba?eventDateId=29969065&widgetToken=22vcqFKw4GE.&
CLASS:PUBLIC
DTSTART:20260424T200000
DTSTAMP:20260422T072142
END:VEVENT
END:VCALENDAR