BEGIN:VCALENDAR
VERSION:2.0
PRODID:http://www.infomax-online.de/imxeventmanager/
METHOD:PUBLISH
BEGIN:VTIMEZONE
TZID:Europe/Berlin
TZURL:http://tzurl.org/zoneinfo-outlook/Europe/Berlin
X-LIC-LOCATION:Europe/Berlin
END:VTIMEZONE
BEGIN:VEVENT
UID:69ec1cee9e8e1
LOCATION:Jakobikirchhof 3, 23552 Lübeck
SUMMARY;ENCODING=QUOTED-PRINTABLE:Orgelfahrt ins »Alte Land« mit Prof. Arvid Gast
DESCRIPTION;ENCODING=QUOTED-PRINTABLE:Orgelfahrt ab 8:00 Uhr ins "Alte Land": Buxtehude, Steinkirchen, Stade=0D=0A=0D=0AAnmeldungen unter: joboecher@gmx.de.=0D=0A=0D=0A =0D=0A=0D=0AVERANSTALTER=0D=0A=0D=0A	* Ev.-Luth. Kirchengemeindeverband Innenstadt Lübeck=0D=0A[https://www.nordkirche.de/institution/?nkci=14100]=0D=0A=0D=0A
URL;VALUE=URI:https://hamburgwhl.infomaxnet.de/standard_widget_de/e-orgelfahrt-ins-alte-land-mit-prof-arvid-gast?eventDateId=29967062&widgetToken=22vcqFKw4GE.&
CLASS:PUBLIC
DTSTART:20260425T000000
DTSTAMP:20260425T034622
END:VEVENT
END:VCALENDAR