BEGIN:VCALENDAR
VERSION:2.0
PRODID:http://www.infomax-online.de/imxeventmanager/
METHOD:PUBLISH
BEGIN:VTIMEZONE
TZID:Europe/Berlin
TZURL:http://tzurl.org/zoneinfo-outlook/Europe/Berlin
X-LIC-LOCATION:Europe/Berlin
END:VTIMEZONE
BEGIN:VEVENT
UID:69ec3ac709f0c
LOCATION:Mecklenburgstraße 63, 19053 Schwerin
SUMMARY;ENCODING=QUOTED-PRINTABLE:Malerei mit Alkohol-Tinte für Erwachsene
DESCRIPTION;ENCODING=QUOTED-PRINTABLE:Alcohol-Ink Workshop mit Sandra Gockel von „Blütenzeichen“.=0D=0ATauche ein in die faszinierende Welt der abstrakten Kunst! In meinem=0D=0AAlcohol-Ink Workshop entdeckst du die Magie dieser einzigartigen=0D=0ATechnik und kannst deine Kreativität frei entfalten.=0D=0A=0D=0ADen Kopf frei bekommen.=0D=0AEine kleine Pause vom Alltag.=0D=0ADas Gedankenkarussell abstellen.=0D=0A=0D=0AAlcohol-Ink – eine abstrakte & intuitive Kunst mit Tinte. Lass hier=0D=0Adie Farben einfach frei fließen. Probiere etwas Neues aus und=0D=0Aentdecke die Magie der Farben. Während des Kurses zeige ich dir die=0D=0ATechnik und bin die ganze Zeit bei Fragen und als Hilfestellung für=0D=0Adich da. In der Gestaltung bist du aber völlig frei. Wir malen auf=0D=0ADIN A6 und DIN A5 Yupo Papier. Für Anfänger geeignet, es sind keine=0D=0AVorkenntnisse erforderlich.=0D=0A=0D=0AAufgrund der Alkohol-Dämpfe nicht für schwangere Personen geeignet.=0D=0AAb 18 Jahren.=0D=0A=0D=0ATeilnahme nur mit vorheriger Anmeldung.=0D=0ATermin: 25. April 2026 von 13.00 -15.00 Uhr=0D=0AIm Knotenpunkt, Mecklenburgstraße 63 in Schwerin=0D=0AFür nur 39 € pro Person inkl. aller Materialien=0D=0A=0D=0AAnmeldung direkt bei Sandra: Instagram @bluetenzeichen, E-Mail=0D=0Abluetenzeichen@yahoo.com oder im Shop unter www.bluetenzeichen.de=0D=0A
URL;VALUE=URI:https://hamburgwhl.infomaxnet.de/standard_widget_de/e-malerei-mit-alkohol-tinte-fuer-erwachsene-1?eventDateId=29958568&widgetToken=22vcqFKw4GE.&
CLASS:PUBLIC
DTSTART:20260425T130000
DTSTAMP:20260425T055343
END:VEVENT
END:VCALENDAR