BEGIN:VCALENDAR
VERSION:2.0
PRODID:http://www.infomax-online.de/imxeventmanager/
METHOD:PUBLISH
BEGIN:VTIMEZONE
TZID:Europe/Berlin
TZURL:http://tzurl.org/zoneinfo-outlook/Europe/Berlin
X-LIC-LOCATION:Europe/Berlin
END:VTIMEZONE
BEGIN:VEVENT
UID:69ed905a10fa6
LOCATION:Am Park 5, 19230 Pritzier
SUMMARY;ENCODING=QUOTED-PRINTABLE:Flohmarkt & Oldtimertreffen
DESCRIPTION;ENCODING=QUOTED-PRINTABLE:Flohmarkt und Oldtimertreffen auf Gut Schwechow. Stände mit=0D=0AAntiquitäten, Kunsthandwerk und Kuriositäten treffen auf klassische=0D=0AAutomobile. Für Verpflegung ist gesorgt, der historische Gutshof=0D=0Abietet ein stimmungsvolles Ambiente für Besucher jeden Alters.=0D=0A=0D=0ADer Flohmarkt auf Gut Schwechow bietet von April bis Oktober eine=0D=0Abesondere Mischung aus Handel, Kultur und Automobilgeschichte. In der=0D=0Ahistorischen Atmosphäre des Gutshofs präsentieren Händler und=0D=0Aprivate Anbieter Antiquitäten, Kunsthandwerk, Sammlerstücke und=0D=0AKuriositäten. Besucher finden hier Möbel, Schmuck, Bücher,=0D=0AVintage-Kleidung und einzigartige Fundstücke, die abseits des=0D=0AMainstreams begeistern.=0D=0A=0D=0AParallel dazu findet auf dem weitläufigen Gelände das=0D=0AOldtimertreffen statt. Liebhaber klassischer Automobile aus Ost und=0D=0AWest versammeln ihre Fahrzeuge, vom gepflegten Oldtimer bis zum=0D=0Aseltenen Youngtimer. Die Kombination aus historischen Autos und=0D=0Atraditionellem Flohmarkt schafft ein einzigartiges Ambiente, das=0D=0Asowohl Sammler als auch Familien und Hobbyinteressierte anspricht.=0D=0A=0D=0AFür das leibliche Wohl ist durch ein vielfältiges Angebot an Speisen=0D=0Aund Getränken gesorgt. Das historische Gutshaus und die weitläufigen=0D=0AAußenflächen laden zum Verweilen ein, sodass ein Besuch nicht nur=0D=0AShopping, sondern auch ein Ausflug in die Kultur und Geschichte des=0D=0Aländlichen Raums wird.=0D=0A=0D=0ADas Gut Schwechow, mit seiner malerischen Lage und dem=0D=0Adenkmalgeschützten Ambiente, bietet den idealen Rahmen für einen Tag=0D=0Avoller Entdeckungen, Gespräche und Nostalgie. Der Flohmarkt mit=0D=0Aintegriertem Oldtimertreffen verbindet Tradition und zeitlose=0D=0AFaszination und richtet sich an alle, die Freude an besonderen Dingen,=0D=0Aan historischen Fahrzeugen und an einem entspannten Wochenende abseits=0D=0Ades Trubels suchen.=0D=0A
URL;VALUE=URI:https://hamburgwhl.infomaxnet.de/standard_widget_de/e-flohmarkt-oldtimertreffen-1?eventDateId=29958477&widgetToken=22vcqFKw4GE.&
CLASS:PUBLIC
DTSTART:20260426T090000
DTSTAMP:20260426T061106
END:VEVENT
END:VCALENDAR