BEGIN:VCALENDAR
VERSION:2.0
PRODID:http://www.infomax-online.de/imxeventmanager/
METHOD:PUBLISH
BEGIN:VTIMEZONE
TZID:Europe/Berlin
TZURL:http://tzurl.org/zoneinfo-outlook/Europe/Berlin
X-LIC-LOCATION:Europe/Berlin
END:VTIMEZONE
BEGIN:VEVENT
UID:69e5bdf5ba4cf
LOCATION:An der Crivitzer Chaussee 1, 19061 Schwerin
SUMMARY;ENCODING=QUOTED-PRINTABLE:70 Jahre Zoo Schwerin
DESCRIPTION;ENCODING=QUOTED-PRINTABLE:Kommt am 24.04. in den Zoo und feiert mit uns 70 Jahre Zoo Schwerin.=0D=0ADer Eintritt kostet an diesem Tag symbolische 70 Cent.=0D=0A=0D=0AVor 70 Jahren, im Jahr 1956, eröffnete der Schweriner Zoo – damals=0D=0Anoch als Tierpark – mit gerade einmal 17 Tieren das erste Mal für=0D=0ABesucherinnen und Besucher. Heute beherbergt der Zoo Schwerin mehr als=0D=0A1500 Tiere und zählt zu den bedeutendsten Bildungs- und=0D=0AFreizeiteinrichtungen des Landes. Wir möchten Euch hiermit herzlich=0D=0Aeinladen, mit uns gemeinsam einen Blick auf 70 Jahre Zoo-Geschichte=0D=0Aund alles, was noch kommen mag, zu werfen.=0D=0A=0D=0ADas erwartet Euch:=0D=0A=0D=0A	* buntes Zooprogramm (Fütterungen, Kommentierungen, Bühnenprogramm,=0D=0Aneue historische Ausstellung auf den 30 Zoo-Tafeln)=0D=0A	* Start des Bühnenprogramms ist um 16:30 Uhr =0D=0A	* der Zoo ist ab 9:00 Uhr regulär geöffnet=0D=0A=0D=0ADer Eintritt kostet symbolische 70 Cent. Jahreskartenbesitzerinnen und=0D=0A-besitzer zahlen nichts zusätzlich. =0D=0A=0D=0ASICHERT EUCH EURE TICKETS AM BESTEN BEREITS IM VORAUS, UM LANGES=0D=0AANSTEHEN ZU VERMEIDEN.=0D=0ALink zum Webshop [https://shop.zoo-schwerin.de/article/478]=0D=0A=0D=0AWir freuen uns auf einen wunderschönen "Geburtstag" mit Euch!=0D=0A=0D=0A =0D=0A
URL;VALUE=URI:https://hamburgwhl.infomaxnet.de/standard_widget_de/e-70-jahre-zoo-schwerin?eventDateId=29958470&widgetToken=22vcqFKw4GE.&
CLASS:PUBLIC
DTSTART:20260424T090000
DTSTAMP:20260420T074733
END:VEVENT
END:VCALENDAR