BEGIN:VCALENDAR
VERSION:2.0
PRODID:http://www.infomax-online.de/imxeventmanager/
METHOD:PUBLISH
BEGIN:VTIMEZONE
TZID:Europe/Berlin
TZURL:http://tzurl.org/zoneinfo-outlook/Europe/Berlin
X-LIC-LOCATION:Europe/Berlin
END:VTIMEZONE
BEGIN:VEVENT
UID:69e7b2d11511e
LOCATION:An der Zionskirche 5, 29614 Soltau
SUMMARY;ENCODING=QUOTED-PRINTABLE:„Der Seniorenteller“
DESCRIPTION;ENCODING=QUOTED-PRINTABLE:Gemeinsames Mittagessen für Soltauer Seniorinnen und Senioren mit der=0D=0AMöglichkeit, Freunde und Bekannte zu treffen.=0D=0A=0D=0A12 € für Teilnehmende: Im Beitrag enthalten sind 1 Hauptgericht, 1=0D=0ADessert und 1 Getränk. Der Betrag ist nach Anmeldung zu überweisen.=0D=0A
URL;VALUE=URI:https://hamburgwhl.infomaxnet.de/standard_widget_de/e-der-seniorenteller?eventDateId=29951370&widgetToken=22vcqFKw4GE.&
CLASS:PUBLIC
DTSTART:20260421T120000
DTSTAMP:20260421T192433
END:VEVENT
END:VCALENDAR