BEGIN:VCALENDAR
VERSION:2.0
PRODID:http://www.infomax-online.de/imxeventmanager/
METHOD:PUBLISH
BEGIN:VTIMEZONE
TZID:Europe/Berlin
TZURL:http://tzurl.org/zoneinfo-outlook/Europe/Berlin
X-LIC-LOCATION:Europe/Berlin
END:VTIMEZONE
BEGIN:VEVENT
UID:69ea1e4ca9af0
LOCATION:Mühlenweg 17, 29614 Soltau
SUMMARY;ENCODING=QUOTED-PRINTABLE:Lange Saunanacht
DESCRIPTION;ENCODING=QUOTED-PRINTABLE:An diesem besonderen Freitag haben wir von 20:00 – 00:00 Uhr ein=0D=0Atolles Aufgussprogramm, besondere Aufgussrituale und Leckereien.=0D=0AFKK-Freunde kommen ab 22:00 Uhr beim ausschließlich textilfreien=0D=0ABaden im Solebad auf Ihre Kosten. (Regulärer Eintritt – Verzehr=0D=0Agegen Aufpreis)=0D=0A
URL;VALUE=URI:https://hamburgwhl.infomaxnet.de/standard_widget_de/e-lange-saunanacht-10?eventDateId=29951272&widgetToken=22vcqFKw4GE.&
CLASS:PUBLIC
DTSTART:20260424T200000
DTSTAMP:20260423T152740
END:VEVENT
END:VCALENDAR