BEGIN:VCALENDAR
VERSION:2.0
PRODID:http://www.infomax-online.de/imxeventmanager/
METHOD:PUBLISH
BEGIN:VTIMEZONE
TZID:Europe/Berlin
TZURL:http://tzurl.org/zoneinfo-outlook/Europe/Berlin
X-LIC-LOCATION:Europe/Berlin
END:VTIMEZONE
BEGIN:VEVENT
UID:69ea09ef3ea73
LOCATION:Mühlenweg 17, 29614 Soltau
SUMMARY;ENCODING=QUOTED-PRINTABLE:Spielenachmittag
DESCRIPTION;ENCODING=QUOTED-PRINTABLE:An jedem letzten Dienstag im Monat heißt es von 15:00 bis 17:30 Uhr=0D=0A„Spiel, Spaß und Action“ für alle großen und kleinen=0D=0AWasserratten.=0D=0A=0D=0ABeim Rutschenspaß könnt ihr eure Geschwindigkeit messen und ein=0D=0AErinnerungsfoto erwerben!=0D=0A
URL;VALUE=URI:https://hamburgwhl.infomaxnet.de/standard_widget_de/e-spielenachmittag-308?eventDateId=29951271&widgetToken=22vcqFKw4GE.&
CLASS:PUBLIC
DTSTART:20260428T150000
DTSTAMP:20260423T140047
END:VEVENT
END:VCALENDAR