BEGIN:VCALENDAR
VERSION:2.0
PRODID:http://www.infomax-online.de/imxeventmanager/
METHOD:PUBLISH
BEGIN:VTIMEZONE
TZID:Europe/Berlin
TZURL:http://tzurl.org/zoneinfo-outlook/Europe/Berlin
X-LIC-LOCATION:Europe/Berlin
END:VTIMEZONE
BEGIN:VEVENT
UID:69ea31b0611e5
LOCATION:Mühlenweg 17, 29614 Soltau
SUMMARY;ENCODING=QUOTED-PRINTABLE:Kostenlose Wassergymnastik
DESCRIPTION;ENCODING=QUOTED-PRINTABLE:Von Montag bis Freitag (außer an Feiertagen) bieten wir Ihnen die=0D=0AMöglichkeit, an unserer kostenlosen Wassergymnastik – zum=0D=0Aregulären Eintrittspreis – teilzunehmen. =0D=0A=0D=0AErleben Sie die wohltuende Wirkung von Bewegung im Wasser: Sie=0D=0Atrainieren sanft, schonend für Gelenke und Muskulatur, und haben=0D=0Agleichzeitig jede Menge Spaß. Unsere Wassergymnastik ist für alle=0D=0AAltersgruppen und Fitnesslevels geeignet. Kommen Sie vorbei und=0D=0Aprobieren Sie es aus – Ihr Körper wird es Ihnen danken! Die=0D=0AWassergymnastik findet im Solebad statt.=0D=0A=0D=0ASie zahlen den Eintrittspreis vom Solebad.=0D=0A
URL;VALUE=URI:https://hamburgwhl.infomaxnet.de/standard_widget_de/e-kostenlose-wassergymnastik-3?eventDateId=29951188&widgetToken=22vcqFKw4GE.&
CLASS:PUBLIC
DTSTART:20260427T110000
DTSTAMP:20260423T165024
END:VEVENT
END:VCALENDAR