BEGIN:VCALENDAR
VERSION:2.0
PRODID:http://www.infomax-online.de/imxeventmanager/
METHOD:PUBLISH
BEGIN:VTIMEZONE
TZID:Europe/Berlin
TZURL:http://tzurl.org/zoneinfo-outlook/Europe/Berlin
X-LIC-LOCATION:Europe/Berlin
END:VTIMEZONE
BEGIN:VEVENT
UID:69eab9de629b8
LOCATION:Beer-Yaacov-Weg 1, 23843 Bad Oldesloe
SUMMARY;ENCODING=QUOTED-PRINTABLE:Die Therapie
DESCRIPTION;ENCODING=QUOTED-PRINTABLE:Eine Veranstaltung der Reihe Die Therapie - Psychothriller von=0D=0ASebastian Fitzek=0D=0A=0D=0AJosy, die 12-jaehrige Tochter des bekannten Psychiaters Viktor Larens,=0D=0Averschwindet unter mysteriösen Umständen spurlos.=0D=0A=0D=0AEs gibt keine Zeugen, eine Leiche wurde nie gefunden.=0D=0A=0D=0AJahre später wird Viktor von einer Zeitschrift um ein Interview=0D=0Agebeten.=0D=0A=0D=0AEr zieht sich auf eine einsame Insel zurück, in der Hoffnung, dort=0D=0Aendlich wieder zu sich selbst finden und der Geschichte endgültig=0D=0Astellen zu können. Unerwartet bekommt er Besuch von der jungen=0D=0AAutorin Anna Spiegel, die unter Wahnvorstellungen leidet und bittet,=0D=0Asie zu therapieren.=0D=0A=0D=0ASie behauptet, Visionen von einem Mädchen zu haben, das spurlos=0D=0Averschwunden ist.=0D=0A
URL;VALUE=URI:https://hamburgwhl.infomaxnet.de/standard_widget_de/e-die-therapie?eventDateId=29941224&widgetToken=22vcqFKw4GE.&
CLASS:PUBLIC
DTSTART:20260424T200000
DTSTAMP:20260424T023126
END:VEVENT
END:VCALENDAR