BEGIN:VCALENDAR
VERSION:2.0
PRODID:http://www.infomax-online.de/imxeventmanager/
METHOD:PUBLISH
BEGIN:VTIMEZONE
TZID:Europe/Berlin
TZURL:http://tzurl.org/zoneinfo-outlook/Europe/Berlin
X-LIC-LOCATION:Europe/Berlin
END:VTIMEZONE
BEGIN:VEVENT
UID:69e9dda704657
LOCATION:Alter Markt , 19370 Parchim
SUMMARY;ENCODING=QUOTED-PRINTABLE:6. Parchimer Book Catching
DESCRIPTION;ENCODING=QUOTED-PRINTABLE:Die große Buchsuche zum Welttag des Buches=0D=0A=0D=0AIhr liebt, wir lieben es - also machen wir es nochmal: Parchimer BOOK=0D=0ACATCHING!=0D=0A=0D=0AZum mittlerweile 6. Mal schicken wir euch auf eine Entdeckungsreise=0D=0Aquer durch unsere schöne Kleinstadt und verschenken wieder Hunderte=0D=0Avon Büchern an euch.=0D=0AAlle Infos zum Ablauf und Startpunkt bekommt ihr wie immer kurz vor=0D=0ABeginn der großen Buchsuche bei Facebook, Instagram und WhatsApp.=0D=0ABei vorherigen Fragen meldet euch jederzeit bei uns!=0D=0AHaltet euch den Samstag schon mal frei! =0D=0A=0D=0AWir freuen uns SEHR auf ein GEMEINSAMES ABENTEUER mit euch.=0D=0A
URL;VALUE=URI:https://hamburgwhl.infomaxnet.de/standard_widget_de/e-6-parchimer-book-catching?eventDateId=29939492&widgetToken=22vcqFKw4GE.&
CLASS:PUBLIC
DTSTART:20260418T090000
DTSTAMP:20260423T105151
END:VEVENT
END:VCALENDAR