BEGIN:VCALENDAR
VERSION:2.0
PRODID:http://www.infomax-online.de/imxeventmanager/
METHOD:PUBLISH
BEGIN:VTIMEZONE
TZID:Europe/Berlin
TZURL:http://tzurl.org/zoneinfo-outlook/Europe/Berlin
X-LIC-LOCATION:Europe/Berlin
END:VTIMEZONE
BEGIN:VEVENT
UID:69ea5f1d69f4f
LOCATION:Salztorscontrescarpe 7, 21680 Stade
SUMMARY;ENCODING=QUOTED-PRINTABLE:Aktionstag Venengesundheit
DESCRIPTION;ENCODING=QUOTED-PRINTABLE:Prävention, Gesundheit, Kundenaktion=0D=0A=0D=0AFachgespräch über deine Venen!=0D=0AINCORT lädt zum kostenfreien Venenfunktionstest ein. =0D=0AErhalten Sie in 5-10 Minuten einen Einblick in Ihre Venenfunktion und=0D=0Alassen Sie sich von unseren Fachberaterinnen über mögliche Schritte=0D=0Aaufklären.=0D=0ADer Eintritt ist frei, um Anmeldung wird gebeten.=0D=0A =0D=0A
URL;VALUE=URI:https://hamburgwhl.infomaxnet.de/standard_widget_de/e-aktionstag-venengesundheit-2?eventDateId=29938860&widgetToken=22vcqFKw4GE.&
CLASS:PUBLIC
DTSTART:20260423T090000
DTSTAMP:20260423T200413
END:VEVENT
END:VCALENDAR