BEGIN:VCALENDAR
VERSION:2.0
PRODID:http://www.infomax-online.de/imxeventmanager/
METHOD:PUBLISH
BEGIN:VTIMEZONE
TZID:Europe/Berlin
TZURL:http://tzurl.org/zoneinfo-outlook/Europe/Berlin
X-LIC-LOCATION:Europe/Berlin
END:VTIMEZONE
BEGIN:VEVENT
UID:69ead2015a647
LOCATION:Kokerstraße 1-3, 23569 Lübeck
SUMMARY;ENCODING=QUOTED-PRINTABLE:Trave-Taucher-Technik - ohne Taucher geht es nicht!
DESCRIPTION;ENCODING=QUOTED-PRINTABLE:Sonderführung=0D=0A=0D=0ASonderführung mit Marianne Dräger, Mitglied der Lübecker=0D=0AGroßfamilie Dräger, Dieter Harfst, ehrenamtlicher Mitarbeiter in der=0D=0Ahistorischen Gerätesammlung der Firma Dräger und dem Kurator der=0D=0AAusstellung Rainer Wiedemann=0D=0A
URL;VALUE=URI:https://hamburgwhl.infomaxnet.de/standard_widget_de/e-trave-taucher-technik-ohne-taucher-geht-es-nicht?eventDateId=29936816&widgetToken=22vcqFKw4GE.&
CLASS:PUBLIC
DTSTART:20260424T160000
DTSTAMP:20260424T041425
END:VEVENT
END:VCALENDAR