BEGIN:VCALENDAR
VERSION:2.0
PRODID:http://www.infomax-online.de/imxeventmanager/
METHOD:PUBLISH
BEGIN:VTIMEZONE
TZID:Europe/Berlin
TZURL:http://tzurl.org/zoneinfo-outlook/Europe/Berlin
X-LIC-LOCATION:Europe/Berlin
END:VTIMEZONE
BEGIN:VEVENT
UID:69e62cada9e62
LOCATION:Jarrestraße 20, 22303 Hamburg
SUMMARY;ENCODING=QUOTED-PRINTABLE:MIXOLOGY IN CONTEMPORARY
DESCRIPTION;ENCODING=QUOTED-PRINTABLE:Für die Teilnahme am Profitraining ist eine EINMALIGE AKKREDITIERUNG=0D=0Anotwendig. Durch die Akkreditierung wird im Ticketsystem eine=0D=0AFreischaltung für den Erwerb von Tickets für das Profitraining=0D=0Avorgenommen. Hier geht es zu den Teilnahmebedingungen.=0D=0A=0D=0ADieses Training konzentriert sich auf die unterschiedliche=0D=0ABewegungsdominanz im Körper der Tänzer*innen und untersucht nicht=0D=0Anur Bewegungen, sondern auch Emotionen. Die Teilnehmer*innen werden=0D=0Amit ihren eigenen Grenzen konfrontiert: Wie weit können sie ihre=0D=0AFähigkeiten ausreizen, wie sehr können sie sich von der Bewegung=0D=0Aleiten lassen, ohne sich selbst völlig zu verlieren? Mit einer=0D=0AMischung aus Balletttechnik, zeitgenössischen und urbanen Einflüssen=0D=0Azielt dieser Kurs darauf ab, sowohl unsere intellektuellen als auch=0D=0Aunsere körperlichen Fähigkeiten zu erweitern.=0D=0A=0D=0A// HIER KÖNNT IHR DIREKT DIE AKKREDITIERUNGSANFRAGE DURCHFÜHREN:=0D=0A=0D=0A[NewsletterRegistrationScript3]=0D=0A
URL;VALUE=URI:https://hamburgwhl.infomaxnet.de/standard_widget_de/e-mixology-in-contemporary?eventDateId=29933394&widgetToken=22vcqFKw4GE.&
CLASS:PUBLIC
DTSTART:20260420T103000
DTSTAMP:20260420T153957
END:VEVENT
END:VCALENDAR